BEGIN:VCALENDAR
VERSION:2.0
PRODID:-//ChamberMaster//Event Calendar 2.0//EN
METHOD:PUBLISH
X-PUBLISHED-TTL:P3D
REFRESH-INTERVAL:P3D
CALSCALE:GREGORIAN
BEGIN:VEVENT
DTSTART:20150730T230000Z
DTEND:20150731T003000Z
X-MICROSOFT-CDO-ALLDAYEVENT:FALSE
SUMMARY:Chamber Open House Speaker Series
DESCRIPTION:FWMBCC Board Chairman Jamie Grant is speaker of the evening. Mr. Grant is President of JDGWealth Management Group LLC.
X-ALT-DESC;FMTTYPE=text/html:FWMBCC Board Chairman Jamie Grant is speaker of the evening. Mr. Grant is&nbsp\;President of JDGWealth Management Group LLC.
LOCATION:BAC Building Conference Rm. # 116
UID:e.1262.2204
SEQUENCE:3
DTSTAMP:20260422T051221Z
URL:https://business.fwmbcc.org/events/details/chamber-open-house-speaker-series-07-30-2015-2204
END:VEVENT

END:VCALENDAR
