BEGIN:VCALENDAR
VERSION:2.0
PRODID:-//ChamberMaster//Event Calendar 2.0//EN
METHOD:PUBLISH
X-PUBLISHED-TTL:P3D
REFRESH-INTERVAL:P3D
CALSCALE:GREGORIAN
BEGIN:VEVENT
DTSTART:20150625T230000Z
DTEND:20150626T003000Z
X-MICROSOFT-CDO-ALLDAYEVENT:FALSE
SUMMARY:Chamber Open House Speaker Series
DESCRIPTION:Ms Grace Daniels FWMBCC Board Member who also is Fort Worth Region Area Manager for Oncor Electric.
X-ALT-DESC;FMTTYPE=text/html:Ms Grace Daniels FWMBCC Board Member who also is Fort Worth Region Area Manager for Oncor Electric.
LOCATION:BAC Building 1150 S. Freeway Conference Rm. # 116 FW 76104
UID:e.1262.2203
SEQUENCE:3
DTSTAMP:20260422T023406Z
URL:https://business.fwmbcc.org/events/details/chamber-open-house-speaker-series-06-25-2015-2203
END:VEVENT

END:VCALENDAR
