BEGIN:VCALENDAR
VERSION:2.0
PRODID:-//ChamberMaster//Event Calendar 2.0//EN
METHOD:PUBLISH
X-PUBLISHED-TTL:P3D
REFRESH-INTERVAL:P3D
CALSCALE:GREGORIAN
BEGIN:VEVENT
DTSTART:20150528T230000Z
DTEND:20150529T003000Z
X-MICROSOFT-CDO-ALLDAYEVENT:FALSE
SUMMARY:Chamber Open House Speaker Series
DESCRIPTION:Mr. Bob Jameson will be the Speaker for the evening. Mr Jameson is a FWMBCC board member and President / CEO of the Fort Worth Convention and Vistors Bureau.
X-ALT-DESC;FMTTYPE=text/html:Mr. Bob Jameson will be the Speaker for the evening. Mr Jameson is a FWMBCC board member and President / CEO of the Fort Worth Convention and Vistors Bureau.
LOCATION:1150 S. Freeway Conference Rm. #116
UID:e.1262.2201
SEQUENCE:3
DTSTAMP:20260422T010143Z
URL:https://business.fwmbcc.org/events/details/chamber-open-house-speaker-series-05-28-2015-2201
END:VEVENT

END:VCALENDAR
