BEGIN:VCALENDAR
VERSION:2.0
PRODID:-//ChamberMaster//Event Calendar 2.0//EN
METHOD:PUBLISH
X-PUBLISHED-TTL:P3D
REFRESH-INTERVAL:P3D
CALSCALE:GREGORIAN
BEGIN:VEVENT
DTSTART:20160929T230000Z
DTEND:20160930T010000Z
X-MICROSOFT-CDO-ALLDAYEVENT:FALSE
SUMMARY:Chamber Open House and Speaker Series
DESCRIPTION:Speaker this month will be Jeff Postell from Post L Group!
X-ALT-DESC;FMTTYPE=text/html:Speaker this month will be Jeff Postell from Post L Group!
LOCATION:Business Assistance Center\, Pharma Fab Conf. Room-1150 S. Freeway\, Fort Worth TX
UID:e.1262.2405
SEQUENCE:3
DTSTAMP:20260422T010112Z
URL:https://business.fwmbcc.org/events/details/chamber-open-house-and-speaker-series-09-29-2016-2405
END:VEVENT

END:VCALENDAR
