BEGIN:VCALENDAR
VERSION:2.0
PRODID:-//ChamberMaster//Event Calendar 2.0//EN
METHOD:PUBLISH
X-PUBLISHED-TTL:P3D
REFRESH-INTERVAL:P3D
CALSCALE:GREGORIAN
BEGIN:VEVENT
DTSTART:20160728T230000Z
DTEND:20160729T010000Z
X-MICROSOFT-CDO-ALLDAYEVENT:FALSE
SUMMARY:Chamber Open House and Speaker Series
DESCRIPTION:
X-ALT-DESC;FMTTYPE=text/html:
LOCATION:Business Assistance Center\, Pharma Fab Conf. Room-1150 S. Freeway\, Fort Worth TX
UID:e.1262.2403
SEQUENCE:3
DTSTAMP:20260422T041103Z
URL:https://business.fwmbcc.org/events/details/chamber-open-house-and-speaker-series-07-28-2016-2403
END:VEVENT

END:VCALENDAR
