BEGIN:VCALENDAR
VERSION:2.0
PRODID:-//ChamberMaster//Event Calendar 2.0//EN
METHOD:PUBLISH
X-PUBLISHED-TTL:P3D
REFRESH-INTERVAL:P3D
CALSCALE:GREGORIAN
BEGIN:VEVENT
DTSTART:20160428T230000Z
DTEND:20160429T010000Z
X-MICROSOFT-CDO-ALLDAYEVENT:FALSE
SUMMARY:Chamber Open House and Speaker Series
DESCRIPTION:Speaker to be Announced
X-ALT-DESC;FMTTYPE=text/html:Speaker to be Announced
LOCATION:Business Assistance Center\, Pharma Fab Conf. Room-1150 S. Freeway\, Fort Worth TX
UID:e.1262.2400
SEQUENCE:3
DTSTAMP:20260422T091551Z
URL:https://business.fwmbcc.org/events/details/chamber-open-house-and-speaker-series-04-28-2016-2400
END:VEVENT

END:VCALENDAR
