BEGIN:VCALENDAR
VERSION:2.0
PRODID:-//ChamberMaster//Event Calendar 2.0//EN
METHOD:PUBLISH
X-PUBLISHED-TTL:P3D
REFRESH-INTERVAL:P3D
CALSCALE:GREGORIAN
BEGIN:VEVENT
DTSTART:20160331T230000Z
DTEND:20160401T010000Z
X-MICROSOFT-CDO-ALLDAYEVENT:FALSE
SUMMARY:Chamber Open House and Speaker Series
DESCRIPTION:Lawonda Peoples\, FWMBCC Board Member and owner of Eventually Yours.
X-ALT-DESC;FMTTYPE=text/html:Lawonda Peoples\, FWMBCC Board Member and owner of Eventually Yours.
LOCATION:Business Assistance Center\, Pharma Fab Conf. Room-1150 S. Freeway\, Fort Worth TX
UID:e.1262.2399
SEQUENCE:3
DTSTAMP:20260422T104605Z
URL:https://business.fwmbcc.org/events/details/chamber-open-house-and-speaker-series-03-31-2016-2399
END:VEVENT

END:VCALENDAR
