BEGIN:VCALENDAR
VERSION:2.0
PRODID:-//ChamberMaster//Event Calendar 2.0//EN
METHOD:PUBLISH
X-PUBLISHED-TTL:P3D
REFRESH-INTERVAL:P3D
CALSCALE:GREGORIAN
BEGIN:VEVENT
DTSTART:20160226T000000Z
DTEND:20160226T020000Z
X-MICROSOFT-CDO-ALLDAYEVENT:FALSE
SUMMARY:Chamber Open House and Speaker Series
DESCRIPTION:This month's speaker is Larry Kemp\, Owner of KEMP & SONS General Services.  Larry Kemp is a 1980 Business School Graduate from the University of Texas at Arlington.  Under his leadership\, his family's company KEMP & SONS General Services has grown from having $250K contracts in place to nearly  $22million\, increasing revenues 18 fold.  The company has been recognized by Harvard Business School and appeared in Forbes Magazine\, CNN Money and Inc. Magazine.  KEMP & SONS has received numerous awards on a local\, regional and national level.
X-ALT-DESC;FMTTYPE=text/html:<strong>This month&#39\;s speaker is Larry Kemp\, Owner of KEMP &amp\; SONS General Services. &nbsp\;Larry Kemp is a 1980 Business School Graduate from the University of Texas at Arlington. &nbsp\;Under his leadership\, his family&#39\;s company KEMP &amp\; SONS General Services has grown from having $250K contracts in place to nearly&nbsp\;&nbsp\;$22million\, increasing revenues 18&nbsp\;fold. &nbsp\;The company has been recognized by Harvard Business School and appeared in Forbes Magazine\, CNN Money and Inc. Magazine. &nbsp\;KEMP &amp\; SONS has received numerous awards on a local\, regional and national level.</strong>
LOCATION:Business Assistance Center\, Pharma Fab Conf. Room-1150 S. Freeway\, Fort Worth TX
UID:e.1262.2398
SEQUENCE:3
DTSTAMP:20260422T121847Z
URL:https://business.fwmbcc.org/events/details/chamber-open-house-and-speaker-series-02-25-2016-2398
END:VEVENT

END:VCALENDAR
