BEGIN:VCALENDAR
VERSION:2.0
PRODID:-//ChamberMaster//Event Calendar 2.0//EN
METHOD:PUBLISH
X-PUBLISHED-TTL:P3D
REFRESH-INTERVAL:P3D
CALSCALE:GREGORIAN
BEGIN:VEVENT
DTSTART:20151110T233000Z
DTEND:20151111T013000Z
X-MICROSOFT-CDO-ALLDAYEVENT:FALSE
SUMMARY:Chamber on the Road Madea's Down Home Cookin
DESCRIPTION:Madea's Down Home Cookin -Our 2nd Chamber on the Road Event to support Black owned businesses. We look forward to seeing you all there.
X-ALT-DESC;FMTTYPE=text/html:Madea&#39\;s Down Home Cookin&nbsp\;-Our 2nd Chamber on the Road Event to support Black owned businesses. We look forward to seeing you all there.
LOCATION:1019 W. Enon\, Everman Tx 76140
UID:e.1262.2295
SEQUENCE:3
DTSTAMP:20260422T105523Z
URL:https://business.fwmbcc.org/events/details/chamber-on-the-road-madea-s-down-home-cookin-11-10-2015-2295
END:VEVENT

END:VCALENDAR
