BEGIN:VCALENDAR
VERSION:2.0
PRODID:-//ChamberMaster//Event Calendar 2.0//EN
METHOD:PUBLISH
X-PUBLISHED-TTL:P3D
REFRESH-INTERVAL:P3D
CALSCALE:GREGORIAN
BEGIN:VEVENT
DTSTART:20151203T233000Z
DTEND:20151204T010000Z
X-MICROSOFT-CDO-ALLDAYEVENT:FALSE
SUMMARY:Chamber on the Road
DESCRIPTION:Join the Chamber for our last On The Road Event of the year. Marie Antoinette is a parfumerie and spa owned by Dr. Marie Holliday. The business carries fragrances\, luxury bath/body products\, accessories and more.
X-ALT-DESC;FMTTYPE=text/html:<strong>Join the Chamber for our last On The Road Event of the year. Marie Antoinette is a parfumerie and spa owned by Dr. Marie Holliday. The business carries fragrances\, luxury bath/body products\, accessories and more.</strong>
LOCATION:101 W. Second St.\, (Sundance Square)\, Fort Worth TX
UID:e.1262.2299
SEQUENCE:3
DTSTAMP:20260422T135407Z
URL:https://business.fwmbcc.org/events/details/chamber-on-the-road-12-03-2015-2299
END:VEVENT

END:VCALENDAR
