BEGIN:VCALENDAR
VERSION:2.0
PRODID:-//ChamberMaster//Event Calendar 2.0//EN
METHOD:PUBLISH
X-PUBLISHED-TTL:P3D
REFRESH-INTERVAL:P3D
CALSCALE:GREGORIAN
BEGIN:VEVENT
DTSTART:20151003T220000Z
DTEND:20151004T000000Z
X-MICROSOFT-CDO-ALLDAYEVENT:FALSE
SUMMARY:Chamber on the Road
DESCRIPTION:Chamber on the Road!!
X-ALT-DESC;FMTTYPE=text/html:<strong>Chamber on the Road!!</strong>
LOCATION:The Dock Bookshop\, 6637 Meadowbrook Drive\, Fort Worth Texas
UID:e.1262.2222
SEQUENCE:3
DTSTAMP:20260422T091514Z
URL:https://business.fwmbcc.org/events/details/chamber-on-the-road-10-03-2015-2222
END:VEVENT

END:VCALENDAR
