BEGIN:VCALENDAR
VERSION:2.0
PRODID:-//ChamberMaster//Event Calendar 2.0//EN
METHOD:PUBLISH
X-PUBLISHED-TTL:P3D
REFRESH-INTERVAL:P3D
CALSCALE:GREGORIAN
BEGIN:VEVENT
DTSTART:20150520T170000Z
DTEND:20150520T180000Z
X-MICROSOFT-CDO-ALLDAYEVENT:FALSE
SUMMARY:Chamber Day at MLCC
DESCRIPTION:Minority Leaders & Citizens Council The Third Wednesday of the month is Chamber Day at MLCC. Come out and support this program. Learn more about your community and the economic growth.
X-ALT-DESC;FMTTYPE=text/html:Minority Leaders &amp\; Citizens Council The Third Wednesday of the month is Chamber Day at MLCC. Come out and support this program. Learn more about your community and the economic growth.
LOCATION:Community Christian Church Annex 1720 E. Vickery FW 76104
UID:e.1262.2199
SEQUENCE:3
DTSTAMP:20260422T022414Z
URL:https://business.fwmbcc.org/events/details/chamber-day-at-mlcc-05-20-2015-2199
END:VEVENT

END:VCALENDAR
