BEGIN:VCALENDAR
VERSION:2.0
PRODID:-//ChamberMaster//Event Calendar 2.0//EN
METHOD:PUBLISH
X-PUBLISHED-TTL:P3D
REFRESH-INTERVAL:P3D
CALSCALE:GREGORIAN
BEGIN:VEVENT
DTSTART:20191008T230000Z
DTEND:20191009T010000Z
X-MICROSOFT-CDO-ALLDAYEVENT:FALSE
SUMMARY:Certification Training for Minority\, Women\, Small\, or Disadvantaged-Owned Business Enterprises and Other Federal Certifications
DESCRIPTION:There are now more opportunities for certified Minority\, Women\, Small\, or Disadvantaged-Owned Business Enterprises (M/W/S/DBE) to bid on public\, private-sector contracts and federal contracts\, increase their capacity and effectively contribute to the economy. If your target market is to sell to Federal\, State\, or Local Government institutions\, Corporations or Construction Prime Contractors\, you should consider one or more of these Certifications.\n\nThis workshop teaches you about the 9 different types of Certifications and helps take the mystery out of the Certification process.\n\nThe City of Fort Worth's Economic Development Department supports the development and growth of small businesses and entrepreneurs as a key economic development strategy. With its partner organizations\, services offered include access to the city's Economic Development programs\, assistance with emerging businesses' growth\, start-up counseling\, business planning assistance and access to capital. \n\n\n\nRegistration Fee - $15.00\n\nPay At Door Fee - $20.00
X-ALT-DESC;FMTTYPE=text/html:<br />\n<span style="font-size:14px\;"><span style="font-family:arial\;"><span style="padding-top:0px\;">There are now more opportunities for certified Minority\, Women\, Small\, or Disadvantaged-Owned Business Enterprises (M/W/S/DBE) to bid on public\, private-sector contracts and federal contracts\, increase their capacity and effectively contribute to the economy. If your target market is to sell to Federal\, State\, or Local Government institutions\, Corporations or Construction Prime Contractors\, you should consider one or more of these Certifications.</span><br />\n<span style="padding-top:0px\;">This workshop teaches you about the 9 different types of Certifications and helps take the mystery out of the Certification process.</span><br />\n<span style="color: rgb(111\, 114\, 135)\; letter-spacing: 0.5px\; background-color: rgb(255\, 255\, 255)\;">The City of Fort Worth&#39\;s Economic Development Department&nbsp\;supports the development and growth of small businesses and entrepreneurs as a key economic development strategy.&nbsp\;With its partner organizations\, services offered include access to the city&rsquo\;s Economic Development programs\, assistance with emerging businesses&#39\; growth\, start-up counseling\, business planning assistance and access to capital.&nbsp\;</span></span></span><br />\n<br />\n<span style="padding-top:0px\;"><span style="font-weight:700\;padding-top:0px\;">Registration Fee</span>&nbsp\;- $15.00</span><br />\n<span style="padding-top:0px\;"><span style="font-weight:700\;padding-top:0px\;">Pay At Door Fee</span>&nbsp\;- $20.00</span>
LOCATION:James E. Guinn Entrepreneurial Campus - Fort Worth Business Assistance Center 1150 South Freeway Fort Worth\, TX 76104
UID:e.1262.4181
SEQUENCE:3
DTSTAMP:20260424T202727Z
URL:https://business.fwmbcc.org/events/details/certification-training-for-minority-women-small-or-disadvantaged-owned-business-enterprises-and-other-federal-certifications-4181
END:VEVENT

END:VCALENDAR
