BEGIN:VCALENDAR
VERSION:2.0
PRODID:-//ChamberMaster//Event Calendar 2.0//EN
METHOD:PUBLISH
X-PUBLISHED-TTL:P3D
REFRESH-INTERVAL:P3D
CALSCALE:GREGORIAN
BEGIN:VEVENT
DTSTART:20171201T000000Z
DTEND:20171201T020000Z
X-MICROSOFT-CDO-ALLDAYEVENT:FALSE
SUMMARY:Capacity Building Series: Module 3
DESCRIPTION:Rescheduling the October 19th Capacity Building Series we are combing two topics this month for the finale of the Capacity Building Series. Industry professionals will give a detailed presentation on technology in construction including programs like primavera and others. We will also have Jeff Postell\, of Post L Group\, and Vincent Fudzie\, of Triune\, that will be facilitating a workshop on the back office services of a construction firm. The module will cover critical administrative duties to include: IT\, record maintenance\, accounting and more.
X-ALT-DESC;FMTTYPE=text/html:<br />\n<span style="color: rgb(29\, 33\, 41)\; font-family: Helvetica\, Arial\, sans-serif\; font-size: 12px\; white-space: pre-wrap\; background-color: rgb(255\, 255\, 255)\;">Rescheduling the October 19th Capacity Building Series we are combing two topics this month for the finale of the Capacity Building Series. Industry professionals will give a detailed presentation on technology in construction including programs like primavera and others. We will also have Jeff Postell\, of Post L Group\, and Vincent Fudzie\, of Triune\, that will be facilitating a workshop on the back office services of a construction firm. The module will cover critical administrative duties to include: IT\, record maintenance\, accounting and more.</span>
LOCATION:Buttons 4701 West Fwy Fort Worth\, TX 76107
UID:e.1262.3047
SEQUENCE:3
DTSTAMP:20260421T203536Z
URL:https://business.fwmbcc.org/events/details/capacity-building-series-module-3-3047
END:VEVENT

END:VCALENDAR
