BEGIN:VCALENDAR
VERSION:2.0
PRODID:-//ChamberMaster//Event Calendar 2.0//EN
METHOD:PUBLISH
X-PUBLISHED-TTL:P3D
REFRESH-INTERVAL:P3D
CALSCALE:GREGORIAN
BEGIN:VEVENT
DTSTART:20170817T230000Z
DTEND:20170818T010000Z
X-MICROSOFT-CDO-ALLDAYEVENT:FALSE
SUMMARY:Capacity Building Series: Module 2
DESCRIPTION:Construction professionals Jeff Postell of Post L Group and Vincent Fudzie of Triune will be facilitating the back office services workshop. The module will cover critical administrative duties to include: IT\, record maintenance\, accounting and more.
X-ALT-DESC;FMTTYPE=text/html:Construction professionals Jeff Postell of Post L Group and Vincent Fudzie of Triune will be facilitating the <strong><em>back office services</em></strong> workshop. The module will cover critical administrative duties to include: IT\, record maintenance\, accounting and more.&nbsp\;
LOCATION:Business Assistance Center 1150 South Freeway Fort Worth\, TX 76104
UID:e.1262.3036
SEQUENCE:3
DTSTAMP:20260421T172824Z
URL:https://business.fwmbcc.org/events/details/capacity-building-series-module-2-3036
END:VEVENT

END:VCALENDAR
