BEGIN:VCALENDAR
VERSION:2.0
PRODID:-//ChamberMaster//Event Calendar 2.0//EN
METHOD:PUBLISH
X-PUBLISHED-TTL:P3D
REFRESH-INTERVAL:P3D
CALSCALE:GREGORIAN
BEGIN:VEVENT
DTSTART:20170523T230000Z
DTEND:20170524T010000Z
X-MICROSOFT-CDO-ALLDAYEVENT:FALSE
SUMMARY:Capacity Building Series: Module 1
DESCRIPTION:Module 1 of the Chamber Capacity Building Series will cover everything you need to know about bonding along with a presentation from construction law attorney Cara Kennemer. Kennemer will address the following: \n\n	Lien & Bonding Protection\n	Project Close-out Settlement\n	Payment Negotiations\n	Sub-General Contractor Dispute Resolution\n	Contract Review: Prime to Sub-Contractors\n	Contract Review: "You" to a Sub-Contractor\n	Contract Review: Owners to General Contractors
X-ALT-DESC;FMTTYPE=text/html:Module 1 of the Chamber Capacity Building Series will cover everything you need to know about bonding along with a presentation from construction law attorney Cara Kennemer. Kennemer will address the following:&nbsp\;\n<ul>\n	<li>Lien &amp\; Bonding Protection</li>\n	<li>Project Close-out Settlement</li>\n	<li>Payment Negotiations</li>\n	<li>Sub-General Contractor Dispute Resolution</li>\n	<li>Contract Review: Prime to Sub-Contractors</li>\n	<li>Contract Review: &ldquo\;You&rdquo\; to a Sub-Contractor</li>\n	<li>Contract Review: Owners to General Contractors&nbsp\;</li>\n</ul>\n
LOCATION:Business Assistance Center 1150 South Freeway Fort Worth\, TX 76104
UID:e.1262.3035
SEQUENCE:3
DTSTAMP:20260421T131853Z
URL:https://business.fwmbcc.org/events/details/capacity-building-series-module-1-3035
END:VEVENT

END:VCALENDAR
