BEGIN:VCALENDAR
VERSION:2.0
PRODID:-//ChamberMaster//Event Calendar 2.0//EN
METHOD:PUBLISH
X-PUBLISHED-TTL:P3D
REFRESH-INTERVAL:P3D
CALSCALE:GREGORIAN
BEGIN:VEVENT
DTSTART:20160229T140000Z
DTEND:20160301T050000Z
X-MICROSOFT-CDO-ALLDAYEVENT:FALSE
SUMMARY:Business to Business Roundtable Networking
DESCRIPTION:Agenda to Build Capacity (ABC) has a mission to provide an integrated program of technical assistance\, training and introductions to contracting opportunities. for Ft. Worth and Tarrant County based MWBE businesses. Companies participating will be BNSF\; TRWD\, FWISD\, DFW Int'l Airport and many more.  Sponsored by: Ft. Worth Metropolitan Black Chamber\; BNSF\, City of Ft. Worth\, Ft. Worth Hispanic Chamber of Commerce\; Tarrant County and many more!\n\nContinental Breakfast will be provided
X-ALT-DESC;FMTTYPE=text/html:Agenda to Build Capacity (ABC) has a mission to provide an integrated program of technical assistance\, training and introductions to contracting opportunities. for Ft. Worth and Tarrant County based MWBE businesses. Companies participating will be BNSF\; TRWD\, FWISD\, DFW Int&#39\;l Airport and many more. &nbsp\;Sponsored by: Ft. Worth Metropolitan Black Chamber\; BNSF\, City of Ft. Worth\, Ft. Worth Hispanic Chamber of Commerce\; Tarrant County and many more!<br />\nContinental Breakfast will be provided
LOCATION:Tarrant County Resource Connection Center at 2300 Circle Drive\, Ft. Worth TX 76119
UID:e.1262.2431
SEQUENCE:3
DTSTAMP:20260422T135422Z
URL:https://business.fwmbcc.org/events/details/business-to-business-roundtable-networking-02-29-2016-2431
END:VEVENT

END:VCALENDAR
