BEGIN:VCALENDAR
VERSION:2.0
PRODID:-//ChamberMaster//Event Calendar 2.0//EN
METHOD:PUBLISH
X-PUBLISHED-TTL:P3D
REFRESH-INTERVAL:P3D
CALSCALE:GREGORIAN
BEGIN:VEVENT
DTSTART:20180713T133000Z
DTEND:20180713T170000Z
X-MICROSOFT-CDO-ALLDAYEVENT:FALSE
SUMMARY:Business Planning with our Best Business Planning Tool - StratPad
DESCRIPTION:Need to Create an Effective Business Plan?\n\nThis is the workshop for you!\n\nIf you're considering starting a business or need to refresh your business plan - this is a workshop for you.\n\nPresented by Steve Ruel\n\nLook at your business in a fresh new way while you create your business plan!\n\nLimited seating\, please RSVP early.\n\nWe recommend bringing your laptop or tablet.\n\nIn this 4-hour workshop you will:\n\n        Think strategically about your business\n\n        Actually write your business plan from scratch using a simple yet rigorous approach\n\n        Begin to learn how to establish Cash Flow projections\n\n \n\nhttp://events.constantcontact.com/register/event?llr=fg4jspcab&oeidk=a07effgzh15191e2966
X-ALT-DESC;FMTTYPE=text/html:<div style="color: rgb(51\, 51\, 51)\; background-color: rgb(255\, 255\, 255)\; font-family: &quot\;Times New Roman&quot\;\, Times\, serif\; font-size: 16px\;"><span style="color: blue\; font-family: Arial\, Verdana\, Helvetica\, sans-serif\;">Need to Create an Effective Business Plan?</span></div>\n\n<div style="color: rgb(51\, 51\, 51)\; background-color: rgb(255\, 255\, 255)\; font-family: &quot\;Times New Roman&quot\;\, Times\, serif\; font-size: 16px\;"><span style="color: red\; font-family: Arial\, Verdana\, Helvetica\, sans-serif\;">This is the workshop for you!</span></div>\n\n<div style="color: rgb(51\, 51\, 51)\; background-color: rgb(255\, 255\, 255)\; font-family: &quot\;Times New Roman&quot\;\, Times\, serif\; font-size: 16px\;"><span style="color: blue\; font-family: Arial\, Verdana\, Helvetica\, sans-serif\;">If you&rsquo\;re considering starting a business or need to refresh your business plan -&nbsp\;this is a workshop for you.</span></div>\n\n<div style="color: rgb(51\, 51\, 51)\; background-color: rgb(255\, 255\, 255)\; font-family: &quot\;Times New Roman&quot\;\, Times\, serif\; font-size: 16px\;"><span style="font-family: Arial\, Verdana\, Helvetica\, sans-serif\;">Presented by Steve Ruel</span></div>\n\n<div style="color: rgb(51\, 51\, 51)\; background-color: rgb(255\, 255\, 255)\; font-family: &quot\;Times New Roman&quot\;\, Times\, serif\; font-size: 16px\;"><span style="font-family: Arial\, Verdana\, Helvetica\, sans-serif\;">Look at your business in a fresh new way while you create your business plan!</span></div>\n\n<div style="color: rgb(51\, 51\, 51)\; background-color: rgb(255\, 255\, 255)\; font-family: &quot\;Times New Roman&quot\;\, Times\, serif\; font-size: 16px\;"><span style="font-family: Arial\, Verdana\, Helvetica\, sans-serif\; font-size: 24px\;">Limited seating\, please RSVP early.</span></div>\n\n<div style="color: rgb(51\, 51\, 51)\; background-color: rgb(255\, 255\, 255)\; font-family: &quot\;Times New Roman&quot\;\, Times\, serif\; font-size: 16px\;"><span style="color: red\; font-family: Arial\, Verdana\, Helvetica\, sans-serif\;">We recommend bringing your laptop or tablet.</span></div>\n\n<div style="color: rgb(51\, 51\, 51)\; background-color: rgb(255\, 255\, 255)\; font-family: &quot\;Times New Roman&quot\;\, Times\, serif\; font-size: 16px\;"><span style="font-family: Arial\, Verdana\, Helvetica\, sans-serif\;">In this 4-hour workshop you will:</span></div>\n\n<div style="color: rgb(51\, 51\, 51)\; background-color: rgb(255\, 255\, 255)\; font-family: &quot\;Times New Roman&quot\;\, Times\, serif\; font-size: 16px\;"><span style="font-size: 13px\;">&middot\;</span><span style="font-family: Georgia\, &quot\;Times New Roman&quot\;\, Times\, serif\; font-size: 9px\;">&nbsp\;&nbsp\;&nbsp\;&nbsp\;&nbsp\;&nbsp\;&nbsp\;</span><span style="font-family: Arial\, Verdana\, Helvetica\, sans-serif\;">Think strategically about your business</span></div>\n\n<div style="color: rgb(51\, 51\, 51)\; background-color: rgb(255\, 255\, 255)\; font-family: &quot\;Times New Roman&quot\;\, Times\, serif\; font-size: 16px\;"><span style="font-size: 13px\;">&middot\;</span><span style="font-family: Georgia\, &quot\;Times New Roman&quot\;\, Times\, serif\; font-size: 9px\;">&nbsp\;&nbsp\;&nbsp\;&nbsp\;&nbsp\;&nbsp\;&nbsp\;</span><span style="font-family: Arial\, Verdana\, Helvetica\, sans-serif\;">Actually write your business plan from scratch using a simple yet rigorous approach</span></div>\n\n<div style="color: rgb(51\, 51\, 51)\; background-color: rgb(255\, 255\, 255)\; font-family: &quot\;Times New Roman&quot\;\, Times\, serif\; font-size: 16px\;"><span style="font-size: 13px\;">&middot\;</span><span style="font-family: Georgia\, &quot\;Times New Roman&quot\;\, Times\, serif\; font-size: 9px\;">&nbsp\;&nbsp\;&nbsp\;&nbsp\;&nbsp\;&nbsp\;&nbsp\;</span><span style="font-family: Arial\, Verdana\, Helvetica\, sans-serif\;">Begin to learn how to establish Cash Flow projections</span></div>\n\n<div style="color: rgb(51\, 51\, 51)\; background-color: rgb(255\, 255\, 255)\; font-family: &quot\;Times New Roman&quot\;\, Times\, serif\; font-size: 16px\;">&nbsp\;</div>\n\n<div style="color: rgb(51\, 51\, 51)\; background-color: rgb(255\, 255\, 255)\; font-family: &quot\;Times New Roman&quot\;\, Times\, serif\; font-size: 16px\;"><a data-saferedirecturl="https://www.google.com/url?hl=en&amp\;q=http://r20.rs6.net/tn.jsp?f%3D001OUl8_4D22GsOhrVY8gySrP0u8lQNqmPNcu8IbUjnh2jRVqZrplBefm2wPDvKClhO78Se9pyItjeib5mrjqbYZNvahdaFpRGZkMg8necRDhr7O-HMN6EnmN3eRGz6VafQcKVuIp8YoyfHohowqUr_0a82eja2aSPOki0Vo6pmQdDti8tXCmFKHovP-9gPU6v_SelGca3GwLJZeRIecSnWUBkIMwpF6v5oV1IJPC2X_yu4nGtqtps0Kg%3D%3D%26c%3DYPjvK8qF2o6mrUsiYwJTD-8ILrAn8nUfZxxuG2FWujREB7R5e7eQ-w%3D%3D%26ch%3DO6tYgmwE8i35KX0G90ixiLrm50qmARnrIti2Vf0S-cxs0uUJEm_Ckw%3D%3D&amp\;source=gmail&amp\;ust=1531500407903000&amp\;usg=AFQjCNF39VaOyTuYgb_KZQOgDj5Jy_UIZg" href="http://r20.rs6.net/tn.jsp?f=001OUl8_4D22GsOhrVY8gySrP0u8lQNqmPNcu8IbUjnh2jRVqZrplBefm2wPDvKClhO78Se9pyItjeib5mrjqbYZNvahdaFpRGZkMg8necRDhr7O-HMN6EnmN3eRGz6VafQcKVuIp8YoyfHohowqUr_0a82eja2aSPOki0Vo6pmQdDti8tXCmFKHovP-9gPU6v_SelGca3GwLJZeRIecSnWUBkIMwpF6v5oV1IJPC2X_yu4nGtqtps0Kg==&amp\;c=YPjvK8qF2o6mrUsiYwJTD-8ILrAn8nUfZxxuG2FWujREB7R5e7eQ-w==&amp\;ch=O6tYgmwE8i35KX0G90ixiLrm50qmARnrIti2Vf0S-cxs0uUJEm_Ckw==" style="color: rgb(38\, 40\, 42)\; font-family: Arial\, Verdana\, Helvetica\, sans-serif\; font-size: 17px\;" target="_blank">http://events.constantcontact.<wbr />com/register/event?llr=fg4jspc<wbr />ab&amp\;oeidk=a07effgzh15191e2966</a></div>\n
LOCATION:Fort Worth Score Conference Room 1150 South Freeway\, Suite 108 Fort Worth\, Texas 76104
UID:e.1262.4119
SEQUENCE:3
DTSTAMP:20260422T091744Z
URL:https://business.fwmbcc.org/events/details/business-planning-with-our-best-business-planning-tool-stratpad-4119
END:VEVENT

END:VCALENDAR
