BEGIN:VCALENDAR
VERSION:2.0
PRODID:-//ChamberMaster//Event Calendar 2.0//EN
METHOD:PUBLISH
X-PUBLISHED-TTL:P3D
REFRESH-INTERVAL:P3D
CALSCALE:GREGORIAN
BEGIN:VEVENT
DTSTART:20151022T163000Z
DTEND:20151022T180000Z
X-MICROSOFT-CDO-ALLDAYEVENT:FALSE
SUMMARY:Business Planning-The Overview
DESCRIPTION:This session will explain the need for a business plan. It will reinforce the importance of accurate financial projections and the market research needed to help you understand your industry\, target market and competition.
X-ALT-DESC;FMTTYPE=text/html:This session will explain the need for a business plan. It will reinforce the importance of accurate financial projections and the market research needed to help you understand your industry\, target market and competition.
LOCATION:Ft Worth Business Assistance Center at 1150 S. Freeway\, Ft. Worth TX
UID:e.1262.2274
SEQUENCE:3
DTSTAMP:20260422T091513Z
URL:https://business.fwmbcc.org/events/details/business-planning-the-overview-10-22-2015-2274
END:VEVENT

END:VCALENDAR
