BEGIN:VCALENDAR
VERSION:2.0
PRODID:-//ChamberMaster//Event Calendar 2.0//EN
METHOD:PUBLISH
X-PUBLISHED-TTL:P3D
REFRESH-INTERVAL:P3D
CALSCALE:GREGORIAN
BEGIN:VEVENT
DTSTART:20160128T173000Z
DTEND:20160128T190000Z
X-MICROSOFT-CDO-ALLDAYEVENT:FALSE
SUMMARY:Business Planning-The Overview
DESCRIPTION:This session will explain the need for writing a business plan and the Do's and Don'ts. Financial projections\, market research and other topics will be covered.
X-ALT-DESC;FMTTYPE=text/html:This session will explain the need for writing a business plan and the Do&#39\;s and Don&#39\;ts. Financial projections\, market research and other topics will be covered.
LOCATION:Business Assistance Center at 1150 S. Freeway\, Ft. Worth
UID:e.1262.2362
SEQUENCE:3
DTSTAMP:20260422T135406Z
URL:https://business.fwmbcc.org/events/details/business-planning-the-overview-01-28-2016-2362
END:VEVENT

END:VCALENDAR
