BEGIN:VCALENDAR
VERSION:2.0
PRODID:-//ChamberMaster//Event Calendar 2.0//EN
METHOD:PUBLISH
X-PUBLISHED-TTL:P3D
REFRESH-INTERVAL:P3D
CALSCALE:GREGORIAN
BEGIN:VEVENT
DTSTART:20160324T163000Z
DTEND:20160324T180000Z
X-MICROSOFT-CDO-ALLDAYEVENT:FALSE
SUMMARY:Business Planning- The Basic Overview - FREE!
DESCRIPTION:Business Planning - The Basic Overview\n\nThis session explains reasons to write a business plan and the Do's and Don'ts of writing the plan.
X-ALT-DESC;FMTTYPE=text/html:Business Planning - The Basic Overview<br />\nThis session explains reasons to write a business plan and the Do&#39\;s and Don&#39\;ts of writing the plan. &nbsp\;
LOCATION:1150 S. Freeway\, Fort Worth TX Business Assistance Center
UID:e.1262.2798
SEQUENCE:3
DTSTAMP:20260422T121703Z
URL:https://business.fwmbcc.org/events/details/business-planning-the-basic-overview-free-03-24-2016-2798
END:VEVENT

END:VCALENDAR
