BEGIN:VCALENDAR
VERSION:2.0
PRODID:-//ChamberMaster//Event Calendar 2.0//EN
METHOD:PUBLISH
X-PUBLISHED-TTL:P3D
REFRESH-INTERVAL:P3D
CALSCALE:GREGORIAN
BEGIN:VEVENT
DTSTART:20150924T163000Z
DTEND:20150924T180000Z
X-MICROSOFT-CDO-ALLDAYEVENT:FALSE
SUMMARY:Business Planning: Basic Overview-FREE
DESCRIPTION:This session will explain the reasons to write a business plan and the Do's and Dont's. Accurate financial projections and market research will also be discussed.
X-ALT-DESC;FMTTYPE=text/html:This session will explain the reasons to write a business plan and the Do&#39\;s and Dont&#39\;s. Accurate financial projections and market research will also be discussed.
LOCATION:Business Assistance Center 1150 S. Freeway\, Ft. Worth TX
UID:e.1262.2230
SEQUENCE:3
DTSTAMP:20260422T072934Z
URL:https://business.fwmbcc.org/events/details/business-planning-basic-overview-free-09-24-2015-2230
END:VEVENT

END:VCALENDAR
