BEGIN:VCALENDAR
VERSION:2.0
PRODID:-//ChamberMaster//Event Calendar 2.0//EN
METHOD:PUBLISH
X-PUBLISHED-TTL:P3D
REFRESH-INTERVAL:P3D
CALSCALE:GREGORIAN
BEGIN:VEVENT
DTSTART:20160304T173000Z
DTEND:20160304T183000Z
X-MICROSOFT-CDO-ALLDAYEVENT:FALSE
SUMMARY:Business Model Canvas Session
DESCRIPTION:Idea Works FW offers free sessions covering the business model canvas to the Ft. Worth startup community. Hayden Blackburn\, Director\, will be available on Friday mornings at 11:30am to meet w/ individuals\, startups\, businesses and non profits interested in getting a crash course on the business model canvas and fleshing it our for your operations.
X-ALT-DESC;FMTTYPE=text/html:Idea Works FW offers free sessions covering the business model canvas to the Ft. Worth startup community. Hayden Blackburn\, Director\, will be available on Friday mornings at 11:30am to meet w/ individuals\, startups\, businesses and non profits interested in getting a crash course on the business model canvas and fleshing it our for your operations.
LOCATION:Idea Works FW 600 E. Rosedale St.\, Ft. Worth Tx 76104
UID:e.1262.2473
SEQUENCE:3
DTSTAMP:20260422T103821Z
URL:https://business.fwmbcc.org/events/details/business-model-canvas-session-03-04-2016-2473
END:VEVENT

END:VCALENDAR
