BEGIN:VCALENDAR
VERSION:2.0
PRODID:-//ChamberMaster//Event Calendar 2.0//EN
METHOD:PUBLISH
X-PUBLISHED-TTL:P3D
REFRESH-INTERVAL:P3D
CALSCALE:GREGORIAN
BEGIN:VEVENT
DTSTART:20160406T163000Z
DTEND:20160406T180000Z
X-MICROSOFT-CDO-ALLDAYEVENT:FALSE
SUMMARY:Building Wealth Through Franchising
DESCRIPTION:Building Wealth Through Franchising\n\nConsidering business ownership\, specifically franchise ownership\, this workshop is for you.  Bring your own lunch
X-ALT-DESC;FMTTYPE=text/html:Building Wealth Through Franchising<br />\nConsidering business ownership\, specifically franchise ownership\, this workshop is for you. &nbsp\;Bring your own lunch
LOCATION:Business Assistance Center 1150 S. Freeway Ft Worth TX
UID:e.1262.2833
SEQUENCE:3
DTSTAMP:20260422T091418Z
URL:https://business.fwmbcc.org/events/details/building-wealth-through-franchising-04-06-2016-2833
END:VEVENT

END:VCALENDAR
