BEGIN:VCALENDAR
VERSION:2.0
PRODID:-//ChamberMaster//Event Calendar 2.0//EN
METHOD:PUBLISH
X-PUBLISHED-TTL:P3D
REFRESH-INTERVAL:P3D
CALSCALE:GREGORIAN
BEGIN:VEVENT
DTSTART:20180622T000000Z
DTEND:20180622T020000Z
X-MICROSOFT-CDO-ALLDAYEVENT:FALSE
SUMMARY:Building and Repairing Your Personal Credit in 2018
DESCRIPTION:One of the most important factors in obtaining loans for your business is your personal credit history. In this class\, you will learn what lenders look for and how you can improve your chances of credit approval (by improving your credit to get the best rates\; or for those with credit issues\, how to improve it just to qualify). \n\n \n\nMost of us could use a little improvement in our scores. If you have average credit\, you might want to bump it into the "good" range. Someone with good credit might want a credit score upgrade to an "excellent" rating. And\, if your credit rating is poor\, it's especially important that you work to improve your situation.\n\nRebuilding your credit\, whether you have been through a bankruptcy or divorce\, or whether you have made mistakes with your finances\, doesn't have to be complicated. As long as you have patience and create a plan\, you can rebuild your credit and eventually obtain an excellent credit rating.\n\nTalking points:\n\n\n	Understanding the Fair Credit Reporting Act\n	What goes into credit scoring?\n	What are the three major credit bureaus?\n	Removing erroneous\, unverifiable\, and outdated items deleted off reports\n	How to rebuild my credit\n\n\n \n\nhttp://events.constantcontact.com/register/event?llr=fg4jspcab&oeidk=a07efcy40d0e32a25fb
X-ALT-DESC;FMTTYPE=text/html:<div style="margin-left: 15px\; color: rgb(91\, 91\, 91)\; font-size: 12px\;"><span style="font-size:14px\;"><span style="font-family: Arial\, Verdana\, Helvetica\, sans-serif\;">One of the most important factors in obtaining loans for your business is your personal credit history. In this class\, you will learn what lenders look for and how you can improve your chances of credit approval (by improving&nbsp\;your credit to get the best rates\;&nbsp\;or for those with credit issues\, how to improve it just to&nbsp\;qualify).&nbsp\;</span></span></div>\n\n<div style="color: rgb(51\, 51\, 51)\; font-family: &quot\;Times New Roman&quot\;\, Times\, serif\; font-size: 16px\; background-color: rgb(255\, 255\, 255)\;">&nbsp\;</div>\n\n<div style="color: rgb(51\, 51\, 51)\; font-family: &quot\;Times New Roman&quot\;\, Times\, serif\; font-size: 16px\; background-color: rgb(255\, 255\, 255)\;"><span style="font-size:14px\;"><span style="font-family: Arial\, Verdana\, Helvetica\, sans-serif\;">Most of us could use a little improvement in our scores. If you have average credit\, you might want to bump it into the &ldquo\;good&rdquo\; range. Someone with good credit might want a credit score upgrade to an &ldquo\;excellent&rdquo\; rating. And\, if your credit rating is poor\, it&rsquo\;s especially important that you work to improve your situation.</span></span></div>\n\n<div style="color: rgb(51\, 51\, 51)\; font-family: &quot\;Times New Roman&quot\;\, Times\, serif\; font-size: 16px\; background-color: rgb(255\, 255\, 255)\;"><span style="font-size:14px\;"><span style="font-family: Arial\, Verdana\, Helvetica\, sans-serif\;">Rebuilding your credit\, whether you have been through a bankruptcy or divorce\, or whether you have made mistakes with your finances\, doesn&#39\;t&nbsp\;have to be complicated. As long as you have patience and create a plan\, you can rebuild your credit and eventually obtain an excellent credit rating.</span></span></div>\n\n<div style="color: rgb(51\, 51\, 51)\; font-family: &quot\;Times New Roman&quot\;\, Times\, serif\; font-size: 16px\; background-color: rgb(255\, 255\, 255)\;"><span style="font-size:14px\;"><span style="font-family: Arial\, Verdana\, Helvetica\, sans-serif\;">Talking points:</span></span></div>\n\n<ul style="color: rgb(51\, 51\, 51)\; font-family: &quot\;Times New Roman&quot\;\, Times\, serif\; font-size: 16px\; background-color: rgb(255\, 255\, 255)\;">\n	<li style="margin-left: 15px\; font-size: 19px\; text-align: left\;"><span style="font-size:14px\;"><span style="font-family: Arial\, Verdana\, Helvetica\, sans-serif\;">Understanding the Fair Credit Reporting Act</span></span></li>\n	<li style="margin-left: 15px\; font-size: 19px\; text-align: left\;"><span style="font-size:14px\;"><span style="font-family: Arial\, Verdana\, Helvetica\, sans-serif\;">What goes into credit scoring?</span></span></li>\n	<li style="margin-left: 15px\; font-size: 19px\; text-align: left\;"><span style="font-size:14px\;"><span style="font-family: Arial\, Verdana\, Helvetica\, sans-serif\;">What are the three major credit bureaus?</span></span></li>\n	<li style="margin-left: 15px\; font-size: 19px\; text-align: left\;"><span style="font-size:14px\;"><span style="font-family: Arial\, Verdana\, Helvetica\, sans-serif\;">Removing erroneous\, unverifiable\, and outdated items deleted off reports</span></span></li>\n	<li style="margin-left: 15px\; font-size: 19px\; text-align: left\;"><span style="font-size:14px\;"><span style="font-family: Arial\, Verdana\, Helvetica\, sans-serif\;">How to rebuild my credit</span></span></li>\n</ul>\n\n<div style="color: rgb(51\, 51\, 51)\; font-family: &quot\;Times New Roman&quot\;\, Times\, serif\; font-size: 16px\; background-color: rgb(255\, 255\, 255)\;">&nbsp\;</div>\n\n<div style="color: rgb(51\, 51\, 51)\; font-family: &quot\;Times New Roman&quot\;\, Times\, serif\; font-size: 16px\; background-color: rgb(255\, 255\, 255)\;"><a data-saferedirecturl="https://www.google.com/url?hl=en&amp\;q=http://events.constantcontact.com/register/event?llr%3Dfg4jspcab%26oeidk%3Da07efcy40d0e32a25fb&amp\;source=gmail&amp\;ust=1528295915605000&amp\;usg=AFQjCNFIXubwt4SZXOJuZ8Yfjtck-lGEzg" href="http://events.constantcontact.com/register/event?llr=fg4jspcab&amp\;oeidk=a07efcy40d0e32a25fb" style="color: rgb(17\, 85\, 204)\;" target="_blank">http://events.constantcontact.<wbr />com/register/event?llr=fg4jspc<wbr />ab&amp\;oeidk=a07efcy40d0e32a25fb</a></div>\n
LOCATION:Pinnstation 201 E. Abram St. Arlington\, TX 76010
UID:e.1262.4111
SEQUENCE:3
DTSTAMP:20260422T073703Z
URL:https://business.fwmbcc.org/events/details/building-and-repairing-your-personal-credit-in-2018-4111
END:VEVENT

END:VCALENDAR
