BEGIN:VCALENDAR
VERSION:2.0
PRODID:-//ChamberMaster//Event Calendar 2.0//EN
METHOD:PUBLISH
X-PUBLISHED-TTL:P3D
REFRESH-INTERVAL:P3D
CALSCALE:GREGORIAN
BEGIN:VEVENT
DTSTART:20180718T133000Z
DTEND:20180718T170000Z
X-MICROSOFT-CDO-ALLDAYEVENT:FALSE
SUMMARY:Building a Successful Sales Program for Today
DESCRIPTION:his workshop is for entrepreneurs looking to improve or establish a successful customer acquisition approach to selling their product and/or services. \n\nThe workshop will be very interactive in reviewing approaches specific to the following:\n\n- Importance and clarity of business value proposition\n\n- Understanding competitive differentiation\n\n- Defining customer demographics\n\n- Customer acquisition process\n\n- Developing a sales projection process\n\n- Understanding & employment of customer conversion process flow\n\n \n\nIf you are looking for ways to improve your sales and to incorporate proven techniques that help you understand how to achieve improvement in your revenue growth\, then this workshop is for you.  Participants will begin to establish the methodologies and practices while attending this workshop.  This will be hands on experience that you can employ in your business immediately following your participation in the workshop\n\nhttp://events.constantcontact.com/register/event?llr=fg4jspcab&oeidk=a07effheh8s5897d8f3
X-ALT-DESC;FMTTYPE=text/html:<div style="color: rgb(51\, 51\, 51)\; font-family: &quot\;Times New Roman&quot\;\, Times\, serif\; font-size: 16px\; background-color: rgb(255\, 255\, 255)\;"><span style="color: blue\; font-family: Arial\, Verdana\, Helvetica\, sans-serif\; font-size: 19px\;">his workshop is for entrepreneurs looking to improve or establish a successful customer acquisition approach to selling their product and/or services.&nbsp\;</span></div>\n\n<div style="color: rgb(51\, 51\, 51)\; font-family: &quot\;Times New Roman&quot\;\, Times\, serif\; font-size: 16px\; background-color: rgb(255\, 255\, 255)\;"><span style="font-family: Arial\, Verdana\, Helvetica\, sans-serif\;">The workshop will be very interactive in reviewing approaches specific to the following:</span></div>\n\n<div style="color: rgb(51\, 51\, 51)\; font-family: &quot\;Times New Roman&quot\;\, Times\, serif\; font-size: 16px\; background-color: rgb(255\, 255\, 255)\;"><span style="font-family: Arial\, Verdana\, Helvetica\, sans-serif\;">- Importance and clarity of business value proposition</span></div>\n\n<div style="color: rgb(51\, 51\, 51)\; font-family: &quot\;Times New Roman&quot\;\, Times\, serif\; font-size: 16px\; background-color: rgb(255\, 255\, 255)\;"><span style="font-family: Arial\, Verdana\, Helvetica\, sans-serif\;">- Understanding competitive differentiation</span></div>\n\n<div style="color: rgb(51\, 51\, 51)\; font-family: &quot\;Times New Roman&quot\;\, Times\, serif\; font-size: 16px\; background-color: rgb(255\, 255\, 255)\;"><span style="font-family: Arial\, Verdana\, Helvetica\, sans-serif\;">- Defining customer demographics</span></div>\n\n<div style="color: rgb(51\, 51\, 51)\; font-family: &quot\;Times New Roman&quot\;\, Times\, serif\; font-size: 16px\; background-color: rgb(255\, 255\, 255)\;"><span style="font-family: Arial\, Verdana\, Helvetica\, sans-serif\;">- Customer acquisition process</span></div>\n\n<div style="color: rgb(51\, 51\, 51)\; font-family: &quot\;Times New Roman&quot\;\, Times\, serif\; font-size: 16px\; background-color: rgb(255\, 255\, 255)\;"><span style="font-family: Arial\, Verdana\, Helvetica\, sans-serif\;">- Developing a sales projection process</span></div>\n\n<div style="color: rgb(51\, 51\, 51)\; font-family: &quot\;Times New Roman&quot\;\, Times\, serif\; font-size: 16px\; background-color: rgb(255\, 255\, 255)\;"><span style="font-family: Arial\, Verdana\, Helvetica\, sans-serif\;">- Understanding &amp\; employment of customer conversion process flow</span></div>\n\n<div style="color: rgb(51\, 51\, 51)\; font-family: &quot\;Times New Roman&quot\;\, Times\, serif\; font-size: 16px\; background-color: rgb(255\, 255\, 255)\;"><span style="font-family: Arial\, Verdana\, Helvetica\, sans-serif\; font-size: 12px\;">&nbsp\;</span></div>\n\n<div style="color: rgb(51\, 51\, 51)\; font-family: &quot\;Times New Roman&quot\;\, Times\, serif\; font-size: 16px\; background-color: rgb(255\, 255\, 255)\;"><span style="font-family: Arial\, Verdana\, Helvetica\, sans-serif\;">If you are looking for ways to improve your sales and to incorporate proven techniques that help you understand how to achieve improvement in your revenue growth\, then this workshop is for you.&nbsp\;&nbsp\;Participants will begin to establish the methodologies and practices while attending this workshop.&nbsp\;&nbsp\;This will be hands on experience that you can employ in your business immediately following your participation in the workshop</span></div>\n\n<div style="color: rgb(51\, 51\, 51)\; font-family: &quot\;Times New Roman&quot\;\, Times\, serif\; font-size: 16px\; background-color: rgb(255\, 255\, 255)\;"><a data-saferedirecturl="https://www.google.com/url?hl=en&amp\;q=http://r20.rs6.net/tn.jsp?f%3D001OUl8_4D22GsOhrVY8gySrP0u8lQNqmPNcu8IbUjnh2jRVqZrplBefm2wPDvKClhOhWhsaQ5XHprz1iEDHKcNHGaPr_i2qk12ySAKUH5gYoSZnTcJn4DizhfByR5VLGbFxCNr9xORt-RnfvZM-_P127QEuJtGm9r030Za1T2lFL-Ay5CdEA16AJprjd0bhxOsHzQHY4VzXvISs5dI5fu5U7RjDmRE6SL77sOU9o86qDau1z8hQLfhSg%3D%3D%26c%3DYPjvK8qF2o6mrUsiYwJTD-8ILrAn8nUfZxxuG2FWujREB7R5e7eQ-w%3D%3D%26ch%3DO6tYgmwE8i35KX0G90ixiLrm50qmARnrIti2Vf0S-cxs0uUJEm_Ckw%3D%3D&amp\;source=gmail&amp\;ust=1531514108034000&amp\;usg=AFQjCNEfG6923Tgz-aNhuUWt3M5cuu5dLQ" href="http://r20.rs6.net/tn.jsp?f=001OUl8_4D22GsOhrVY8gySrP0u8lQNqmPNcu8IbUjnh2jRVqZrplBefm2wPDvKClhOhWhsaQ5XHprz1iEDHKcNHGaPr_i2qk12ySAKUH5gYoSZnTcJn4DizhfByR5VLGbFxCNr9xORt-RnfvZM-_P127QEuJtGm9r030Za1T2lFL-Ay5CdEA16AJprjd0bhxOsHzQHY4VzXvISs5dI5fu5U7RjDmRE6SL77sOU9o86qDau1z8hQLfhSg==&amp\;c=YPjvK8qF2o6mrUsiYwJTD-8ILrAn8nUfZxxuG2FWujREB7R5e7eQ-w==&amp\;ch=O6tYgmwE8i35KX0G90ixiLrm50qmARnrIti2Vf0S-cxs0uUJEm_Ckw==" style="color: rgb(91\, 91\, 91)\; font-family: Arial\, Verdana\, Helvetica\, sans-serif\; font-size: 12px\;" target="_blank">http://events.constantcontact.<wbr />com/register/event?llr=fg4jspc<wbr />ab&amp\;oeidk=a07effheh8s5897d8f3</a></div>\n
LOCATION:SCORE Conference Room 1150 South Freeway\, Suite 108 Fort Worth\, Texas 76104
UID:e.1262.4123
SEQUENCE:3
DTSTAMP:20260422T091059Z
URL:https://business.fwmbcc.org/events/details/building-a-successful-sales-program-for-today-4123
END:VEVENT

END:VCALENDAR
