BEGIN:VCALENDAR
VERSION:2.0
PRODID:-//ChamberMaster//Event Calendar 2.0//EN
METHOD:PUBLISH
X-PUBLISHED-TTL:P3D
REFRESH-INTERVAL:P3D
CALSCALE:GREGORIAN
BEGIN:VEVENT
DTSTART:20151107T160000Z
DTEND:20151107T210000Z
X-MICROSOFT-CDO-ALLDAYEVENT:FALSE
SUMMARY:BRIT Artisan Market
DESCRIPTION:First Annual BRIT Artisan Market. BRIT will host a number of local & international artisans selling a variety of hand-crafted items included jewelry\, wood housewares\, all natural bath products\, ceramics\, gift worthy food items as well!!!
X-ALT-DESC;FMTTYPE=text/html:First Annual BRIT Artisan Market. BRIT will host a number of local &amp\; international artisans selling a variety of hand-crafted items included jewelry\, wood housewares\, all natural bath products\, ceramics\, gift worthy food items as well!!!
LOCATION:Botanical Research Institute of Texas\, Inside the Ft. Worth Botanic Garden\, 1700 University Dr.\, Ft. Worth TX
UID:e.1262.2254
SEQUENCE:3
DTSTAMP:20260422T104335Z
URL:https://business.fwmbcc.org/events/details/brit-artisan-market-11-07-2015-2254
END:VEVENT

END:VCALENDAR
