BEGIN:VCALENDAR
VERSION:2.0
PRODID:-//ChamberMaster//Event Calendar 2.0//EN
METHOD:PUBLISH
X-PUBLISHED-TTL:P3D
REFRESH-INTERVAL:P3D
CALSCALE:GREGORIAN
BEGIN:VEVENT
DTSTART:20180322T123000Z
DTEND:20180322T140000Z
X-MICROSOFT-CDO-ALLDAYEVENT:FALSE
SUMMARY:BREAKFAST AT THE BAC - MARCH 2018
DESCRIPTION:It Takes a Thief . . .  to be more Secure \n\nJason Duling has an peculiar way to sell his product -- company security courtesy of Johnson Controls / Tyco Security. He surveys your premises as a thief might and points out areas were you appear to most at risk.  Join us at the BAC for a free breakfast and a presentation / Q&A about making your facility more secure.  \n\n\n\nJason Duling\n\nJason Duling is a Senior Account Executive with Johnson Controls / Tyco Security. He works with clients to protect their employees\, secure their facilities and streamline their business practices. Starting in 2008\, Jason began working alongside individuals who realized the need for security but weren't quite sure of the steps to get there. His projects range from mom-and-pop stores to large manufacturing facilities and even a U.S. Air Force base. \n\n\n\n\n\nShare this event on Facebook and Twitter.\n\nWe hope you can make it!   \n\nCheers!   City of Fort Worth Economic Development
X-ALT-DESC;FMTTYPE=text/html:<strong>It Takes a Thief . . .&nbsp\; to be more Secure&nbsp\;</strong><br />\nJason Duling has an peculiar way to sell his product -- company security courtesy of Johnson Controls / Tyco Security.&nbsp\;He surveys your premises as a thief might and points out areas were you appear to&nbsp\;most at risk.&nbsp\; Join us at the BAC&nbsp\;for a free breakfast and a presentation /&nbsp\;Q&amp\;A about making your facility more secure.&nbsp\;&nbsp\;<br />\n<br />\n<strong>Jason Duling</strong><br />\nJason Duling is a Senior Account Executive with Johnson Controls / Tyco Security. He works with clients to protect their employees\, secure their facilities and streamline their business practices. Starting in 2008\, Jason began working alongside individuals who realized the need for security but weren&rsquo\;t quite sure of the steps to get there. His projects range from mom-and-pop stores to large manufacturing facilities and even a U.S. Air Force base.&nbsp\;<br />\n<br />\n<br />\n<span style="background-color:#ffffff\;"><span style="font-size:13px\;"><span style="font-family:arial\,sans-serif\;"><span style="color:#515151\;">Share this event on&nbsp\;</span></span></span></span><a data-saferedirecturl="https://www.google.com/url?hl=en&amp\;q=http://www.facebook.com/share.php?u%3Dhttps%253A//www.eventbrite.com/e/breakfast-at-the-bac-march-2018-tickets-41249242595%253Fref%253Desfb&amp\;source=gmail&amp\;ust=1521660280628000&amp\;usg=AFQjCNEOSLCDrcBvP5e3_m9Hkw6XP7-OaA" href="http://www.facebook.com/share.php?u=https%3A//www.eventbrite.com/e/breakfast-at-the-bac-march-2018-tickets-41249242595%3Fref%3Desfb" rel="nofollow" style="color:rgb(15\, 144\, 186)\;font-family:arial\, sans-serif\;font-size:13px\;text-decoration-line:none\;" target="_blank">Facebook</a><span style="background-color:#ffffff\;"><span style="font-size:13px\;"><span style="font-family:arial\,sans-serif\;"><span style="color:#515151\;">&nbsp\;and&nbsp\;</span></span></span></span><a data-saferedirecturl="https://www.google.com/url?hl=en&amp\;q=http://twitter.com/home?status%3Dhttps%253A//www.eventbrite.com/e/breakfast-at-the-bac-march-2018-tickets-41249242595%253Fref%253Destw&amp\;source=gmail&amp\;ust=1521660280628000&amp\;usg=AFQjCNHiLYHIsNEqEMBEj3CTbF3AWMSUiw" href="http://twitter.com/home?status=https%3A//www.eventbrite.com/e/breakfast-at-the-bac-march-2018-tickets-41249242595%3Fref%3Destw" rel="nofollow" style="color:rgb(15\, 144\, 186)\;font-family:arial\, sans-serif\;font-size:13px\;text-decoration-line:none\;" target="_blank">Twitter</a><span style="background-color:#ffffff\;"><span style="font-size:13px\;"><span style="font-family:arial\,sans-serif\;"><span style="color:#515151\;">.<br />\nWe hope you can make it!&nbsp\; &nbsp\;<br />\nCheers!&nbsp\; &nbsp\;City of Fort Worth Economic Development</span></span></span></span>
LOCATION:Fort Worth Business Assistance Center 1150 South Freeway Fort Worth Texas 76104
UID:e.1262.3093
SEQUENCE:3
DTSTAMP:20260422T023447Z
URL:https://business.fwmbcc.org/events/details/breakfast-at-the-bac-march-2018-3093
END:VEVENT

END:VCALENDAR
