BEGIN:VCALENDAR
VERSION:2.0
PRODID:-//ChamberMaster//Event Calendar 2.0//EN
METHOD:PUBLISH
X-PUBLISHED-TTL:P3D
REFRESH-INTERVAL:P3D
CALSCALE:GREGORIAN
BEGIN:VEVENT
DTSTART:20160225T133000Z
DTEND:20160225T150000Z
X-MICROSOFT-CDO-ALLDAYEVENT:FALSE
SUMMARY:Breakfast at the BAC-How I Business Planned My Avocation into my Vocation
DESCRIPTION:The top 3 finishers in the Business Assistance Center's 2015 Business Plan Competition discuss the process of transitioning their "second" job into their vocation.  Panelists: Kenya Bryant\, Owner Kingdem Consulting & Tax Preparation Services\, her company provides bookkeeping and tax preparation to more than 400 clients\; Alchemy Pops is owned by Carolyn Phillips.  Her company produces frozen mini popsicles in a variety of unique flavors made from Texas only growers\; and Ken Scott\, is founder of ZooMeez.  His DVD's\, CD's\, and videos are geared toward pre K and first graders\, a market of 12 million with 3-to-4 million new kids into the demographic each year.
X-ALT-DESC;FMTTYPE=text/html:The top 3 finishers in the Business Assistance Center&#39\;s 2015 Business Plan Competition discuss the process of transitioning their &quot\;second&quot\; job into their vocation. &nbsp\;<strong>Panelists</strong>: Kenya Bryant\, Owner&nbsp\;<strong>Kingdem</strong> Consulting &amp\; Tax Preparation Services\, her company provides bookkeeping and tax preparation to more than 400 clients\; <strong>Alchemy Pops</strong> is owned by Carolyn Phillips. &nbsp\;Her company produces frozen mini popsicles in a variety of unique flavors made from Texas only growers\; and Ken Scott\, is founder of<strong> ZooMeez.</strong> &nbsp\;His DVD&#39\;s\, CD&#39\;s\, and videos are geared toward pre K and first graders\, a market of 12 million with 3-to-4 million new kids into the demographic each year.
LOCATION:Business Assistance Center at 1150 S. Freeway\, Ft. Worth Texas
UID:e.1262.2485
SEQUENCE:3
DTSTAMP:20260422T122042Z
URL:https://business.fwmbcc.org/events/details/breakfast-at-the-bac-how-i-business-planned-my-avocation-into-my-vocation-02-25-2016-2485
END:VEVENT

END:VCALENDAR
