BEGIN:VCALENDAR
VERSION:2.0
PRODID:-//ChamberMaster//Event Calendar 2.0//EN
METHOD:PUBLISH
X-PUBLISHED-TTL:P3D
REFRESH-INTERVAL:P3D
CALSCALE:GREGORIAN
BEGIN:VEVENT
DTSTART:20160219T160000Z
DTEND:20160219T180000Z
X-MICROSOFT-CDO-ALLDAYEVENT:FALSE
SUMMARY:Book Signing-Historian Reby Cary new book\, The Hurdlers: Historic Black Icons
DESCRIPTION:Book Signing for historian Reby Cary's latest publication\, "The Hurdlers: Historic Black Icons in Fort Worth and Tarrant County.
X-ALT-DESC;FMTTYPE=text/html:<strong>Book Signing for historian Reby Cary&#39\;s latest publication\, &quot\;The Hurdlers: Historic Black Icons in Fort Worth and Tarrant County.</strong>
LOCATION:Lou's Place on Texas Wesleyan Univ. Campus\, 112 Wesleyan Way\, Ft. Worth TX
UID:e.1262.2487
SEQUENCE:3
DTSTAMP:20260422T122259Z
URL:https://business.fwmbcc.org/events/details/book-signing-historian-reby-cary-new-book-the-hurdlers-historic-black-icons-02-19-2016-2487
END:VEVENT

END:VCALENDAR
