BEGIN:VCALENDAR
VERSION:2.0
PRODID:-//ChamberMaster//Event Calendar 2.0//EN
METHOD:PUBLISH
X-PUBLISHED-TTL:P3D
REFRESH-INTERVAL:P3D
CALSCALE:GREGORIAN
BEGIN:VEVENT
DTSTART:20150924T133000Z
DTEND:20150924T150000Z
X-MICROSOFT-CDO-ALLDAYEVENT:FALSE
SUMMARY:Blue Zones Project Employer Information Breakfast
DESCRIPTION:Ready to create a workplace that promotes and sustains well being? Attend this Breakfast and learn how to build a more engaged\, productive workforce.
X-ALT-DESC;FMTTYPE=text/html:Ready to create a workplace that promotes and sustains well being? Attend this Breakfast and learn how to build a more engaged\, productive workforce.
LOCATION:Tx. Health Harris Methodist Hospital FW\, Heart Center Classrooms\, 1240 W. Cannon St.\, Ft. Worth\, TX
UID:e.1262.2237
SEQUENCE:3
DTSTAMP:20260422T073551Z
URL:https://business.fwmbcc.org/events/details/blue-zones-project-employer-information-breakfast-09-24-2015-2237
END:VEVENT

END:VCALENDAR
