BEGIN:VCALENDAR
VERSION:2.0
PRODID:-//ChamberMaster//Event Calendar 2.0//EN
METHOD:PUBLISH
X-PUBLISHED-TTL:P3D
REFRESH-INTERVAL:P3D
CALSCALE:GREGORIAN
BEGIN:VEVENT
DTSTART:20160608T133000Z
DTEND:20160608T150000Z
X-MICROSOFT-CDO-ALLDAYEVENT:FALSE
SUMMARY:Blue Zones Project Employer Information Breakfast
DESCRIPTION:Learn how to build a more engaged and productive workforce.
X-ALT-DESC;FMTTYPE=text/html:Learn how to build a more engaged and productive workforce.
LOCATION:Tarrant County College - Corporate Training Center Alliance 13600 Heritage Parkway\, Suite 100 Ft. Worth Tx
UID:e.1262.2797
SEQUENCE:3
DTSTAMP:20260422T055008Z
URL:https://business.fwmbcc.org/events/details/blue-zones-project-employer-information-breakfast-06-08-2016-2797
END:VEVENT

END:VCALENDAR
