BEGIN:VCALENDAR
VERSION:2.0
PRODID:-//ChamberMaster//Event Calendar 2.0//EN
METHOD:PUBLISH
X-PUBLISHED-TTL:P3D
REFRESH-INTERVAL:P3D
CALSCALE:GREGORIAN
BEGIN:VEVENT
DTSTART:20170930T150000Z
DTEND:20170930T170000Z
X-MICROSOFT-CDO-ALLDAYEVENT:FALSE
SUMMARY:Black Contractors Informational with TRVA
DESCRIPTION:Come out to hear from the Trinity River Vision Authority and City of Fort Worth on joint projects: Trinity River Vision and Panther Island. Representatives will discuss: scopes of work\, contracting opportunities\, how to register with TRVA and partners\, the importance of building relationships. Other subject matter includes the difference between MBE policies for project partners. \n\n\n\nThis is wonderful opportunity to get involved in some of the major construction work being done in the City of Fort Worth.
X-ALT-DESC;FMTTYPE=text/html:Come out to hear from the Trinity River Vision Authority and City of Fort Worth on joint projects: Trinity River&nbsp\;Vision and Panther Island. Representatives will discuss: scopes of work\, contracting opportunities\, how to register with TRVA and partners\, the importance of building relationships. Other subject matter includes the difference between MBE policies for project partners.&nbsp\;<br />\n<br />\nThis is wonderful opportunity to get involved in some of the major construction work being done in the City of Fort Worth.&nbsp\;
LOCATION:Fort Worth Business Assistance Center 1150 South Freeway Fort Worth\, TX 76104
UID:e.1262.3048
SEQUENCE:3
DTSTAMP:20260421T190307Z
URL:https://business.fwmbcc.org/events/details/black-contractors-informational-with-trva-3048
END:VEVENT

END:VCALENDAR
