BEGIN:VCALENDAR
VERSION:2.0
PRODID:-//ChamberMaster//Event Calendar 2.0//EN
METHOD:PUBLISH
X-PUBLISHED-TTL:P3D
REFRESH-INTERVAL:P3D
CALSCALE:GREGORIAN
BEGIN:VEVENT
DTSTART:20160331T150000Z
DTEND:20160331T190000Z
X-MICROSOFT-CDO-ALLDAYEVENT:FALSE
SUMMARY:Black Business Day at the Texas Capitol
DESCRIPTION:Contractors from across the State are invited to hear from elected officials and interact with agency representatives and procurement staffs charged with directing Billions of dollars in contract awards this fiscal year.
X-ALT-DESC;FMTTYPE=text/html:<strong>Contractors from across the State are invited to hear from elected officials and interact with agency representatives and procurement staffs charged with directing Billions of dollars in contract awards this fiscal year.</strong>
LOCATION:Texas Capitol Auditorium in Austin Texas
UID:e.1262.2416
SEQUENCE:3
DTSTAMP:20260422T105344Z
URL:https://business.fwmbcc.org/events/details/black-business-day-at-the-texas-capitol-03-31-2016-2416
END:VEVENT

END:VCALENDAR
