BEGIN:VCALENDAR
VERSION:2.0
PRODID:-//ChamberMaster//Event Calendar 2.0//EN
METHOD:PUBLISH
X-PUBLISHED-TTL:P3D
REFRESH-INTERVAL:P3D
CALSCALE:GREGORIAN
BEGIN:VEVENT
DTSTART:20160128T133000Z
DTEND:20160128T150000Z
X-MICROSOFT-CDO-ALLDAYEVENT:FALSE
SUMMARY:Best Tax Tips Ever-Breakfast at the BAC
DESCRIPTION:3 Impressive Tarrant County CPAs will answer your questions about the March business taxes that will be done soon. Breakfast will be provided.
X-ALT-DESC;FMTTYPE=text/html:<strong>3 Impressive Tarrant County CPAs will answer your questions about the March business taxes that will be done soon. Breakfast will be provided.</strong>
LOCATION:Business Assistance Center at 1150 S. Freeway\, Fort Worth TX
UID:e.1262.2382
SEQUENCE:3
DTSTAMP:20260422T135457Z
URL:https://business.fwmbcc.org/events/details/best-tax-tips-ever-breakfast-at-the-bac-01-28-2016-2382
END:VEVENT

END:VCALENDAR
