BEGIN:VCALENDAR
VERSION:2.0
PRODID:-//ChamberMaster//Event Calendar 2.0//EN
METHOD:PUBLISH
X-PUBLISHED-TTL:P3D
REFRESH-INTERVAL:P3D
CALSCALE:GREGORIAN
BEGIN:VEVENT
DTSTART:20150912T210000Z
DTEND:20150913T020000Z
X-MICROSOFT-CDO-ALLDAYEVENT:FALSE
SUMMARY:Best of Texas Clay\, produced by Tx. Pottery & Sculpture Guild
DESCRIPTION:BRIT welcomes Best of Texas Clay to the Madeline R. Samples Exhibit Hall\, FWADA 2015 Fall Gallery Night\, produced by the Texas Pottery Sculpture Guild
X-ALT-DESC;FMTTYPE=text/html:BRIT welcomes Best of Texas Clay to the Madeline R. Samples Exhibit Hall\, FWADA 2015 Fall Gallery Night\, produced by the Texas Pottery Sculpture Guild
LOCATION:Botanical Research Institute of Texas\, 1700 University Dr.\, Ft. Worth TX
UID:e.1262.2252
SEQUENCE:3
DTSTAMP:20260422T091913Z
URL:https://business.fwmbcc.org/events/details/best-of-texas-clay-produced-by-tx-pottery-sculpture-guild-09-12-2015-2252
END:VEVENT

END:VCALENDAR
