BEGIN:VCALENDAR
VERSION:2.0
PRODID:-//ChamberMaster//Event Calendar 2.0//EN
METHOD:PUBLISH
X-PUBLISHED-TTL:P3D
REFRESH-INTERVAL:P3D
CALSCALE:GREGORIAN
BEGIN:VEVENT
DTSTART:20181112T000000Z
DTEND:20181112T040000Z
X-MICROSOFT-CDO-ALLDAYEVENT:FALSE
SUMMARY:BARBER WARS - STUDENT BARBER BATTLE
DESCRIPTION:Represent Your Barber School or College!!\n\n\n\n***   4 CATEGORIES   ***\n\n\n\n     * Fast Fade                        *Fade with Design\n\n     * Traditional Fade             *  3 ON 3 Team Cut
X-ALT-DESC;FMTTYPE=text/html:<font color="#ff0000" face="tahoma"><b><i><span style="font-size: 12px\;">&nbsp\;</span><br />\n<br />\nRepresent Your Barber School or College!!</i></b></font><br />\n<br />\n<b><i><span style="color:#FF0000\;">***&nbsp\; &nbsp\;4 CATEGORIES&nbsp\; &nbsp\;***<br />\n<br />\n&nbsp\; &nbsp\; &nbsp\;* Fast Fade&nbsp\; &nbsp\; &nbsp\; &nbsp\; &nbsp\; &nbsp\; &nbsp\; &nbsp\; &nbsp\; &nbsp\; &nbsp\; &nbsp\; *Fade with Design<br />\n&nbsp\; &nbsp\; &nbsp\;* Traditional Fade&nbsp\; &nbsp\; &nbsp\; &nbsp\; &nbsp\; &nbsp\; &nbsp\;*&nbsp\; 3 ON 3 Team Cut</span></i></b>
LOCATION:Austin Event Center 1125 East Berry Street Fort Worth\, Texas 76110
UID:e.1262.4132
SEQUENCE:3
DTSTAMP:20260422T154304Z
URL:https://business.fwmbcc.org/events/details/barber-wars-student-barber-battle-4132
END:VEVENT

END:VCALENDAR
