BEGIN:VCALENDAR
VERSION:2.0
PRODID:-//ChamberMaster//Event Calendar 2.0//EN
METHOD:PUBLISH
X-PUBLISHED-TTL:P3D
REFRESH-INTERVAL:P3D
CALSCALE:GREGORIAN
BEGIN:VEVENT
DTSTART:20150814T130000Z
DTEND:20150814T160000Z
X-MICROSOFT-CDO-ALLDAYEVENT:FALSE
SUMMARY:Back to School Round - Up
DESCRIPTION:Giving back to the community. Schools supplies!!! donations are being accepted\n\nIf you would like to be a part of this great cause\, please email Barbara @\n\nbbolden@fwmbcc.org
X-ALT-DESC;FMTTYPE=text/html:Giving back to the community. Schools supplies!!! donations are being accepted<br />\nIf you would like to be a part of this great cause\, please email Barbara @<br />\n<a href="mailto:bbolden@fwmbcc.org">bbolden@fwmbcc.org</a>
LOCATION:Texas Wesleyan University East Rosedale Location may change\, info will be updated.
UID:e.1262.2205
SEQUENCE:3
DTSTAMP:20260422T073014Z
URL:https://business.fwmbcc.org/events/details/back-to-school-round-up-08-14-2015-2205
END:VEVENT

END:VCALENDAR
