BEGIN:VCALENDAR
VERSION:2.0
PRODID:-//ChamberMaster//Event Calendar 2.0//EN
METHOD:PUBLISH
X-PUBLISHED-TTL:P3D
REFRESH-INTERVAL:P3D
CALSCALE:GREGORIAN
BEGIN:VEVENT
DTSTART:20160922T133000Z
DTEND:20160922T153000Z
X-MICROSOFT-CDO-ALLDAYEVENT:FALSE
SUMMARY:BAC - MARKETING & BUSINESS DEVELOPMENT WORKSHOP
DESCRIPTION:By popular demand! On September 22\, 2016\, the City of Fort Worth's Office of Business Diversity Division is offering an introductory session on "Marketing and Business Development" targeted towards small\, minority and women-owned businesses. The session will provide a foundation in key marketing concepts to help you increase the efficiency and effectiveness of your business and\, discover innovative ideas for fueling growth and streamlining efficiencies.\n\nThe class instructor is Mr. Dan Lombardo\, Jr.\, Vice President - Walker Engineering\n\nKey Topics:\n\n\n	How do I separate myself from my competition?\n	Marketing Strategies / and Database\n	RFP / RFQ Information\n	Business Development verses Marketing Plan\n	Developing a Brochure\n	Website / Social Media \n\n\nRegistration is FREE if you sign up on or before September 10\, 2016.  A fee of $12 will be charged after that date.\n\n\n \n\nSpace is limited!  There are 50 spaces available.
X-ALT-DESC;FMTTYPE=text/html:<p style="color: rgb(81\, 81\, 81)\; font-family: arial\, sans-serif\; line-height: 18px\;">By popular demand! On&nbsp\;<span class="aBn" data-term="goog_167349671" style="border-bottom-width: 1px\; border-bottom-style: dashed\; border-bottom-color: rgb(204\, 204\, 204)\; position: relative\; top: -2px\; z-index: 0\;" tabindex="0"><span class="aQJ" style="position: relative\; top: 2px\; z-index: -1\;">September 22\, 2016</span></span>\, the City of Fort Worth&#39\;s Office of Business Diversity Division is offering an introductory session on &quot\;Marketing and Business Development&quot\; targeted towards small\, minority and women-owned businesses. The session will provide a foundation in key marketing concepts to help you increase the efficiency and effectiveness of your business and\,&nbsp\;discover innovative ideas for fueling growth and streamlining efficiencies.</p>\n\n<p style="color: rgb(81\, 81\, 81)\; font-family: arial\, sans-serif\; line-height: 18px\;"><strong>The class instructor is Mr. Dan Lombardo\, Jr.\, Vice President - Walker Engineering</strong></p>\n\n<p style="color: rgb(81\, 81\, 81)\; font-family: arial\, sans-serif\; line-height: 18px\;">Key Topics:</p>\n\n<ul style="color: rgb(81\, 81\, 81)\; font-family: arial\, sans-serif\; line-height: 18px\;">\n	<li style="margin-left: 15px\;">How do I separate myself from my competition?</li>\n	<li style="margin-left: 15px\;">Marketing Strategies / and Database</li>\n	<li style="margin-left: 15px\;">RFP / RFQ Information</li>\n	<li style="margin-left: 15px\;">Business Development verses Marketing Plan</li>\n	<li style="margin-left: 15px\;">Developing a Brochure</li>\n	<li style="margin-left: 15px\;">Website / Social Media&nbsp\;</li>\n</ul>\n\n<p style="color: rgb(81\, 81\, 81)\; font-family: arial\, sans-serif\; line-height: 18px\;">Registration is&nbsp\;<strong>FREE</strong>&nbsp\;if you sign up on or before&nbsp\;<span class="aBn" data-term="goog_167349672" style="border-bottom-width: 1px\; border-bottom-style: dashed\; border-bottom-color: rgb(204\, 204\, 204)\; position: relative\; top: -2px\; z-index: 0\;" tabindex="0"><span class="aQJ" style="position: relative\; top: 2px\; z-index: -1\;">September 10\, 2016</span></span>. &nbsp\;A fee of $12 will be charged after that date.</p>\n\n<hr style="color: rgb(81\, 81\, 81)\; font-family: arial\, sans-serif\; line-height: 18px\;" />\n<p style="color: rgb(81\, 81\, 81)\; font-family: arial\, sans-serif\; line-height: 18px\;">&nbsp\;</p>\n\n<p style="color: rgb(81\, 81\, 81)\; font-family: arial\, sans-serif\; line-height: 18px\;">Space is limited! &nbsp\;There are 50 spaces available. &nbsp\;</p>\n\n<p style="color: rgb(81\, 81\, 81)\; font-family: arial\, sans-serif\; line-height: 18px\;">&nbsp\;</p>\n
LOCATION:The Business Assistance Center (The BAC) 1150 South Freeway Fort Worth\, TX 76104
UID:e.1262.2875
SEQUENCE:3
DTSTAMP:20260422T010018Z
URL:https://business.fwmbcc.org/events/details/bac-marketing-business-development-workshop-09-22-2016-2875
END:VEVENT

END:VCALENDAR
