BEGIN:VCALENDAR
VERSION:2.0
PRODID:-//ChamberMaster//Event Calendar 2.0//EN
METHOD:PUBLISH
X-PUBLISHED-TTL:P3D
REFRESH-INTERVAL:P3D
CALSCALE:GREGORIAN
BEGIN:VEVENT
DTSTART:20160831T133000Z
DTEND:20160831T153000Z
X-MICROSOFT-CDO-ALLDAYEVENT:FALSE
SUMMARY:BAC - Estimating 101 Workshop
DESCRIPTION:By popular demand! On August 31\, 2016\, the City of Fort Worth's Office of Business Diversity is offering an introductory session on Estimating 101.  This class offers basic estimating developed for businesses with limited experience or to help companies to better contract work and build their businesses.  \n\nThe class instructor is Mr. Dan Lombardo\, Jr.\, Vice President - Walker Engineering\n\nTopics include:\n\n       Why do we estimate?\n\n       Estimating terms / basic forms\n\n       Understanding your business and market\n\n       What size projects / jobs should I target\n\n       Labor / Cost control\n\n       Relationship industry\n\n       New processes in our industry\n\n       What matters to General Contractors\n\n \n\nRegistration is FREE if you sign up on or before August 10\, 2016.  A fee of $12 will be charge after that date.
X-ALT-DESC;FMTTYPE=text/html:<p style="color: rgb(81\, 81\, 81)\; font-family: arial\, sans-serif\; line-height: 18px\;"><strong>By popular demand!</strong><strong>&nbsp\;On&nbsp\;<span class="aBn" data-term="goog_1524160234" style="border-bottom-width: 1px\; border-bottom-style: dashed\; border-bottom-color: rgb(204\, 204\, 204)\; position: relative\; top: -2px\; z-index: 0\;" tabindex="0"><span class="aQJ" style="position: relative\; top: 2px\; z-index: -1\;">August 31\, 2016</span></span>\, the City of Fort Worth&#39\;s Office of Business Diversity is offering an introductory session on Estimating 101</strong>. &nbsp\;This class offers basic estimating developed for businesses with limited experience or to help companies to better contract work and build their businesses. &nbsp\;</p>\n\n<p style="color: rgb(81\, 81\, 81)\; font-family: arial\, sans-serif\; line-height: 18px\;"><strong>The class instructor is Mr. Dan Lombardo\, Jr.\, Vice President - Walker Engineering</strong></p>\n\n<p style="color: rgb(81\, 81\, 81)\; font-family: arial\, sans-serif\; line-height: 18px\;"><strong>Topics include:</strong></p>\n\n<p style="color: rgb(81\, 81\, 81)\; font-family: arial\, sans-serif\; line-height: 18px\;">&bull\;&nbsp\;&nbsp\;&nbsp\;&nbsp\;&nbsp\; Why do we estimate?<br />\n&bull\;&nbsp\;&nbsp\;&nbsp\;&nbsp\;&nbsp\; Estimating terms / basic forms<br />\n&bull\;&nbsp\;&nbsp\;&nbsp\;&nbsp\;&nbsp\; Understanding your business and market<br />\n&bull\;&nbsp\;&nbsp\;&nbsp\;&nbsp\;&nbsp\; What size projects / jobs should I target<br />\n&bull\;&nbsp\;&nbsp\;&nbsp\;&nbsp\;&nbsp\; Labor / Cost control<br />\n&bull\;&nbsp\;&nbsp\;&nbsp\;&nbsp\;&nbsp\; Relationship industry<br />\n&bull\;&nbsp\;&nbsp\;&nbsp\;&nbsp\;&nbsp\; New processes in our industry<br />\n&bull\;&nbsp\;&nbsp\;&nbsp\;&nbsp\;&nbsp\; What matters to General Contractors<br />\n&nbsp\;<br />\nRegistration is&nbsp\;<strong>FREE</strong>&nbsp\;if you sign up on or before&nbsp\;<strong><span class="aBn" data-term="goog_1524160235" style="border-bottom-width: 1px\; border-bottom-style: dashed\; border-bottom-color: rgb(204\, 204\, 204)\; position: relative\; top: -2px\; z-index: 0\;" tabindex="0"><span class="aQJ" style="position: relative\; top: 2px\; z-index: -1\;">August 10\, 2016</span></span></strong>. &nbsp\;A fee of $12 will be charge after that date.</p>\n
LOCATION:The Business Assistance Center (The BAC) 1150 South Freeway Fort Worth\, TX 76104
UID:e.1262.2879
SEQUENCE:3
DTSTAMP:20260422T023240Z
URL:https://business.fwmbcc.org/events/details/bac-estimating-101-workshop-08-31-2016-2879
END:VEVENT

END:VCALENDAR
