BEGIN:VCALENDAR
VERSION:2.0
PRODID:-//ChamberMaster//Event Calendar 2.0//EN
METHOD:PUBLISH
X-PUBLISHED-TTL:P3D
REFRESH-INTERVAL:P3D
CALSCALE:GREGORIAN
BEGIN:VEVENT
DTSTART:20160210T003000Z
DTEND:20160210T023000Z
X-MICROSOFT-CDO-ALLDAYEVENT:FALSE
SUMMARY:Arlington NAACP Monthly Meeting-Texas Live Expansion Project
DESCRIPTION:February 9th Arlington NAACP meeting will feature a presentation and Question and Answer from the development group managing the $200 million dollar Texas Live! retail\, restaurant\, hotel ballpark expansion project.
X-ALT-DESC;FMTTYPE=text/html:February 9th Arlington NAACP meeting will feature a presentation and Question and Answer from the development group managing the $200 million dollar Texas Live! retail\, restaurant\, hotel ballpark expansion project.
LOCATION:New Life Fellowship Church at 201 E. Sublet Rd.\, Arlington\, TX 76018
UID:e.1262.2476
SEQUENCE:3
DTSTAMP:20260422T122128Z
URL:https://business.fwmbcc.org/events/details/arlington-naacp-monthly-meeting-texas-live-expansion-project-02-09-2016-2476
END:VEVENT

END:VCALENDAR
