BEGIN:VCALENDAR
VERSION:2.0
PRODID:-//ChamberMaster//Event Calendar 2.0//EN
METHOD:PUBLISH
X-PUBLISHED-TTL:P3D
REFRESH-INTERVAL:P3D
CALSCALE:GREGORIAN
BEGIN:VEVENT
DTSTART:20160422T230000Z
DTEND:20160423T010000Z
X-MICROSOFT-CDO-ALLDAYEVENT:FALSE
SUMMARY:Annual Women's Day Weekend
DESCRIPTION:Come celebrate!! Annual Women's Day Weekend at Beth-Eden Missionary Baptist Church will be held Friday\, April 22- Sunday 24th. We will kick off the weekend on Fri9day April 22nd at 6pm -8pm. with "Game Night and Line Dancing."
X-ALT-DESC;FMTTYPE=text/html:Come celebrate!!&nbsp\;Annual Women&#39\;s Day Weekend at Beth-Eden Missionary Baptist Church will be held Friday\, April 22- Sunday 24th. We will kick off the weekend on Fri9day&nbsp\;April 22nd at 6pm&nbsp\;-8pm. with &quot\;Game Night and Line Dancing.&quot\;<br />\n<br />\n&nbsp\;
LOCATION:Beth-Eden MBC is located at 3208 Wilbarger st.\, Fort Worth. Dr. B.R. Daniels\, Sr. is the pastor. For more information please call the church at 817.534.0283
UID:e.1262.2847
SEQUENCE:3
DTSTAMP:20260422T091513Z
URL:https://business.fwmbcc.org/events/details/annual-women-s-day-weekend-04-22-2016-2847
END:VEVENT

END:VCALENDAR
