BEGIN:VCALENDAR
VERSION:2.0
PRODID:-//ChamberMaster//Event Calendar 2.0//EN
METHOD:PUBLISH
X-PUBLISHED-TTL:P3D
REFRESH-INTERVAL:P3D
CALSCALE:GREGORIAN
BEGIN:VEVENT
DTSTART:20160424T153000Z
DTEND:20160424T220000Z
X-MICROSOFT-CDO-ALLDAYEVENT:FALSE
SUMMARY:Annual Women's Day at Beth-Eden Missionary Baptist Church
DESCRIPTION:Annual Women's Day at Beth-Eden Missionary Baptist Church. Sis. Sheila Brice will be the speaker at the 10:30 am Morning Worship Service. Sis. Virgie Savannah will be the speaker at the 4:00 p.m service.
X-ALT-DESC;FMTTYPE=text/html:Annual Women&#39\;s Day at Beth-Eden Missionary Baptist Church. Sis. Sheila Brice will be the speaker at the 10:30 am Morning Worship Service. Sis. Virgie Savannah will be the speaker at the 4:00 p.m service.&nbsp\;
LOCATION:Beth-Eden MBC is located at 3208 Wilbarger st. Fort Worth
UID:e.1262.2848
SEQUENCE:3
DTSTAMP:20260422T105558Z
URL:https://business.fwmbcc.org/events/details/annual-women-s-day-at-beth-eden-missionary-baptist-church-04-24-2016-2848
END:VEVENT

END:VCALENDAR
