BEGIN:VCALENDAR
VERSION:2.0
PRODID:-//ChamberMaster//Event Calendar 2.0//EN
METHOD:PUBLISH
X-PUBLISHED-TTL:P3D
REFRESH-INTERVAL:P3D
CALSCALE:GREGORIAN
BEGIN:VEVENT
DTSTART:20161215T000000Z
DTEND:20161215T013000Z
X-MICROSOFT-CDO-ALLDAYEVENT:FALSE
SUMMARY:Annual Membership Meeting
DESCRIPTION:ANNUAL MEETING\n\nAnnual Meeting is TOMORROW\, Wednesday December 14\, 2016 at 6:00 p.m. This meeting is where our members come together to nominate vacant seats on our Board of Directors as well as determine re-elections for Executive Board Members. Please make sure to RSVP  by December 13\, 2016!  (If you have already responded with your RSVP\, please disregard this email.)\n\n \n\n \n\n\n\nAnnual Meeting Details:\n\n\n	December 14\, 2016\n	6:00 p.m. - 7:30 p.m\n	Moncrief Cancer Institute - Auditorium\n	400 W. Magnolia Ave.\, Fort Worth TX 76104
X-ALT-DESC;FMTTYPE=text/html:<p style="color: rgb(34\, 34\, 34)\; font-family: arial\, sans-serif\; font-size: 12.8px\; text-align: center\;"><span style="color: rgb(165\, 42\, 42)\;"><span style="font-size: 26px\;"><strong>ANNUAL MEETING</strong></span></span></p>\n\n<p style="color: rgb(34\, 34\, 34)\; font-family: arial\, sans-serif\; font-size: 12px\;">Annual Meeting is TOMORROW\,&nbsp\;<strong><span class="m_-6519285470499277235m_-6360749115331913590m_3204169975356866761m_-8026987140856286571aBn" style="border-bottom: 1px dashed rgb(204\, 204\, 204)\;"><span class="m_-6519285470499277235m_-6360749115331913590m_3204169975356866761m_-8026987140856286571aQJ"><span class="aBn" data-term="goog_1517302830" style="border-bottom: 1px dashed rgb(204\, 204\, 204)\; position: relative\; top: -2px\; z-index: 0\;" tabindex="0"><span class="aQJ" style="position: relative\; top: 2px\; z-index: -1\;">Wednesday December 14\, 2016 at 6:00 p.m.</span></span></span></span>&nbsp\;</strong>This meeting is where our members come together to nominate vacant seats on our Board of Directors as well as determine re-elections for Executive Board Members.&nbsp\;<em><strong>Please make sure to RSVP&nbsp\; by&nbsp\;<span class="m_-6519285470499277235m_-6360749115331913590m_3204169975356866761m_-8026987140856286571aBn" style="border-bottom: 1px dashed rgb(204\, 204\, 204)\;"><span class="m_-6519285470499277235m_-6360749115331913590m_3204169975356866761m_-8026987140856286571aQJ">December 13\, 2016</span></span>!&nbsp\;&nbsp\;<span style="color: rgb(0\, 0\, 205)\;">(If you have already responded with your RSVP\, please disregard this email.)</span></strong></em><br />\n&nbsp\;</p>\n\n<p style="color: rgb(34\, 34\, 34)\; font-family: arial\, sans-serif\; font-size: 12px\; text-align: center\;">&nbsp\;</p>\n\n<p style="color: rgb(34\, 34\, 34)\; font-family: arial\, sans-serif\; font-size: 12px\;"><br />\n<span style="font-size: 28px\;"><span style="color: rgb(0\, 0\, 205)\;"><strong>Annual Meeting Details:</strong></span></span></p>\n\n<ul style="color: rgb(34\, 34\, 34)\; font-family: arial\, sans-serif\; font-size: 12px\;">\n	<li style="margin-left: 15px\;"><span style="font-size: 28px\;"><span class="m_-6519285470499277235m_-6360749115331913590m_3204169975356866761m_-8026987140856286571aBn" style="border-bottom: 1px dashed rgb(204\, 204\, 204)\;"><span class="m_-6519285470499277235m_-6360749115331913590m_3204169975356866761m_-8026987140856286571aQJ"><span class="aBn" data-term="goog_1517302831" style="border-bottom: 1px dashed rgb(204\, 204\, 204)\; position: relative\; top: -2px\; z-index: 0\;" tabindex="0"><span class="aQJ" style="position: relative\; top: 2px\; z-index: -1\;">December 14\, 2016</span></span></span></span></span></li>\n	<li style="margin-left: 15px\;"><span style="font-size: 28px\;"><span class="m_-6519285470499277235m_-6360749115331913590m_3204169975356866761m_-8026987140856286571aBn" style="border-bottom: 1px dashed rgb(204\, 204\, 204)\;"><span class="m_-6519285470499277235m_-6360749115331913590m_3204169975356866761m_-8026987140856286571aQJ"><span class="aBn" data-term="goog_1517302832" style="border-bottom: 1px dashed rgb(204\, 204\, 204)\; position: relative\; top: -2px\; z-index: 0\;" tabindex="0"><span class="aQJ" style="position: relative\; top: 2px\; z-index: -1\;">6:00 p.m. - 7:30 p.m</span></span></span></span></span></li>\n	<li style="margin-left: 15px\;"><span style="font-size: 28px\;">Moncrief Cancer Institute - Auditorium</span></li>\n	<li style="margin-left: 15px\;"><span style="font-size: 28px\;">400 W. Magnolia Ave.\, Fort Worth TX 76104</span></li>\n</ul>\n
LOCATION:
UID:e.1262.2900
SEQUENCE:3
DTSTAMP:20260421T203751Z
URL:https://business.fwmbcc.org/events/details/annual-membership-meeting-2900
END:VEVENT

END:VCALENDAR
