BEGIN:VCALENDAR
VERSION:2.0
PRODID:-//ChamberMaster//Event Calendar 2.0//EN
METHOD:PUBLISH
X-PUBLISHED-TTL:P3D
REFRESH-INTERVAL:P3D
CALSCALE:GREGORIAN
BEGIN:VEVENT
DTSTART:20160429T233000Z
DTEND:20160430T040000Z
X-MICROSOFT-CDO-ALLDAYEVENT:FALSE
SUMMARY:Alzheimer's Association Memory Gala
DESCRIPTION:Alzheimer's Association Memory Gala
X-ALT-DESC;FMTTYPE=text/html:<strong>Alzheimer&#39\;s Association Memory Gala</strong>
LOCATION:Hurst Conference Center
UID:e.1262.2794
SEQUENCE:3
DTSTAMP:20260422T091439Z
URL:https://business.fwmbcc.org/events/details/alzheimer-s-association-memory-gala-04-29-2016-2794
END:VEVENT

END:VCALENDAR
