BEGIN:VCALENDAR
VERSION:2.0
PRODID:-//ChamberMaster//Event Calendar 2.0//EN
METHOD:PUBLISH
X-PUBLISHED-TTL:P3D
REFRESH-INTERVAL:P3D
CALSCALE:GREGORIAN
BEGIN:VEVENT
DTSTART:20160922T130000Z
DTEND:20160922T160000Z
X-MICROSOFT-CDO-ALLDAYEVENT:FALSE
SUMMARY:Agenda for Building Capacity B2B Roundtable
DESCRIPTION:The ABC Business-To-Business Roundtable Networking Event targeted at Tarrant County minority\, woman and veteran owned businesses\, wanting to do business with corporate and government entities\, will be held on Thursday\, September 22\, 2016\, from 8:00 am to 11:00 am. at the Tarrant County Resource Connection Center\, 2300 Circle Drive\, Fort Worth\, Texas 76119\n\nLearn your business ABC's! Company representatives will facilitate roundtable discussions about current and upcoming request for bids and opportunities.  Please call (817) 212-2674 or email us: mwbeoffice@fortworthtexas.gov if you need assistance.
X-ALT-DESC;FMTTYPE=text/html:<p style="margin: 0px\; padding: 0px\; color: rgb(102\, 106\, 115)\; font-family: &quot\;Benton Sans&quot\;\, &quot\;Helvetica Neue&quot\;\, Helvetica\, Roboto\, Arial\, sans-serif\; font-size: 15px\; letter-spacing: 0.5px\; line-height: 22px\;"><span style="padding-top: 0px\;">The ABC Business-To-Business Roundtable Networking Event targeted at Tarrant County minority\, woman and veteran owned businesses\, wanting to do business with corporate and government entities\, will be held on Thursday\, September 22\, 2016\, from 8:00 am to 11:00 am. at the Tarrant County Resource Connection Center\, 2300 Circle Drive\, Fort Worth\, Texas 76119</span></p>\n\n<p style="margin: 0px\; padding: 10px 0px 0px\; color: rgb(102\, 106\, 115)\; font-family: &quot\;Benton Sans&quot\;\, &quot\;Helvetica Neue&quot\;\, Helvetica\, Roboto\, Arial\, sans-serif\; font-size: 15px\; letter-spacing: 0.5px\; line-height: 22px\;"><span style="padding-top: 0px\;">Learn your business ABC&rsquo\;s!&nbsp\;</span>Company representatives will facilitate roundtable discussions about current and upcoming request for bids and opportunities. &nbsp\;Please call (817) 212-2674 or email us:&nbsp\;<span style="font-weight: 700\;"><a href="mailto:mwbeoffice@fortworthtexas.gov" rel="nofollow" style="color: rgb(0\, 161\, 238)\; text-decoration: none\; padding-top: 0px\;" target="_blank" title="Office of Business Diversity email box">mwbeoffice@fortworthtexas.gov</a></span>&nbsp\;if you need assistance.</p>\n
LOCATION:Tarrant County Resource Connection - 2300 Circle Drive\, Fort Worth\, TX 76119
UID:e.1262.2889
SEQUENCE:3
DTSTAMP:20260422T010007Z
URL:https://business.fwmbcc.org/events/details/agenda-for-building-capacity-b2b-roundtable-2889
END:VEVENT

END:VCALENDAR
