BEGIN:VCALENDAR
VERSION:2.0
PRODID:-//ChamberMaster//Event Calendar 2.0//EN
METHOD:PUBLISH
X-PUBLISHED-TTL:P3D
REFRESH-INTERVAL:P3D
CALSCALE:GREGORIAN
BEGIN:VEVENT
DTSTART:20160619T000000Z
DTEND:20160619T040000Z
X-MICROSOFT-CDO-ALLDAYEVENT:FALSE
SUMMARY:African American Museum 28th Texas Black Invitational Rodeo
DESCRIPTION:28th Texas Black Invitational Rodeo
X-ALT-DESC;FMTTYPE=text/html:<strong>28th Texas Black Invitational Rodeo</strong>
LOCATION:State Fair Coliseum in Fair Park Tickets sold at the African American Museum or at www.aamdallas.ticketleap.com
UID:e.1262.2809
SEQUENCE:3
DTSTAMP:20260422T055049Z
URL:https://business.fwmbcc.org/events/details/african-american-museum-28th-texas-black-invitational-rodeo-06-18-2016-2809
END:VEVENT

END:VCALENDAR
