BEGIN:VCALENDAR
VERSION:2.0
PRODID:-//ChamberMaster//Event Calendar 2.0//EN
METHOD:PUBLISH
X-PUBLISHED-TTL:P3D
REFRESH-INTERVAL:P3D
CALSCALE:GREGORIAN
BEGIN:VEVENT
DTSTART:20160204T233000Z
DTEND:20160205T013000Z
X-MICROSOFT-CDO-ALLDAYEVENT:FALSE
SUMMARY:African American Health Expo Kick-off Event
DESCRIPTION:Kick off event for the 16th Annual Health Fair- SAVE THE DATE- April 9\, 2016
X-ALT-DESC;FMTTYPE=text/html:<strong>Kick off event for the 16th Annual Health Fair- SAVE THE DATE- April 9\, 2016</strong>
LOCATION:Moncrief Cancer Institute - 400 W. Magnolia Av.\, Ft. Worth Tx
UID:e.1262.2414
SEQUENCE:3
DTSTAMP:20260422T135515Z
URL:https://business.fwmbcc.org/events/details/african-american-health-expo-kick-off-event-02-04-2016-2414
END:VEVENT

END:VCALENDAR
