BEGIN:VCALENDAR
VERSION:2.0
PRODID:-//ChamberMaster//Event Calendar 2.0//EN
METHOD:PUBLISH
X-PUBLISHED-TTL:P3D
REFRESH-INTERVAL:P3D
CALSCALE:GREGORIAN
BEGIN:VEVENT
DTSTART:20170422T150000Z
DTEND:20170422T170000Z
X-MICROSOFT-CDO-ALLDAYEVENT:FALSE
SUMMARY:African-American Contractors Meeting
DESCRIPTION:The Fort Worth Metropolitan Black Chamber\, in partnership with the Regional Black Contractors Association\, is calling all African-American construction related firms to hear from the City of Fort Worth about contracting opportunities. We will also be discussing how the City of Forth Worth\, in partnership with organizations like ours\, plans to help meet firms where they are and grow their capacity to do work with the city.
X-ALT-DESC;FMTTYPE=text/html:<span style="color: rgb(75\, 79\, 86)\; font-family: Helvetica\, Arial\, sans-serif\; font-size: 14px\; background-color: rgb(255\, 255\, 255)\;">The Fort Worth Metropolitan Black Chamber\, in partnership with the Regional Black Contractors Association\, is calling all African-American construction related firms to hear from the City of Fort Worth about contracting opportunities. We will also be discussing how the City of Forth Worth\, in partnership with organizations like ours\, plans to help meet firms where they are and grow their capacity to do work with the city.</span>
LOCATION:Fort Worth Business Assistance Center 1150 South Freeway Fort Worth\, TX 76104
UID:e.1262.3032
SEQUENCE:3
DTSTAMP:20260421T143636Z
URL:https://business.fwmbcc.org/events/details/african-american-contractors-meeting-3032
END:VEVENT

END:VCALENDAR
