BEGIN:VCALENDAR
VERSION:2.0
PRODID:-//ChamberMaster//Event Calendar 2.0//EN
METHOD:PUBLISH
X-PUBLISHED-TTL:P3D
REFRESH-INTERVAL:P3D
CALSCALE:GREGORIAN
BEGIN:VEVENT
DTSTART:20160220T143000Z
DTEND:20160220T193000Z
X-MICROSOFT-CDO-ALLDAYEVENT:FALSE
SUMMARY:African American Caregiver Seminar-2016 Alzheimers Assn.
DESCRIPTION:Co-sponsored by Commissioner Roy C. Brooks\, this seminar will help attendees recognize signs of the disease and offer directions on how to find a physician and a diagnosis. Social Workers may receive 3 hours of continuing education credit at no cost.  Lunch\, exhibits and door prizes!!!!!!!!!
X-ALT-DESC;FMTTYPE=text/html:Co-sponsored by Commissioner Roy C. Brooks\, this seminar will help attendees recognize signs of the disease and offer directions on how to find a physician and a diagnosis. <strong>Social Workers may receive 3 hours of continuing education credit at no cost.&nbsp\; Lunch\, exhibits and door prizes!!!!!!!!!</strong>
LOCATION:Tarrant County College South Campus Student Center at 5301 Campus Dr.\, Ft. Worth TX
UID:e.1262.2411
SEQUENCE:3
DTSTAMP:20260422T122159Z
URL:https://business.fwmbcc.org/events/details/african-american-caregiver-seminar-2016-alzheimers-assn-02-20-2016-2411
END:VEVENT

END:VCALENDAR
